BEGIN:VCALENDAR
VERSION:2.0
PRODID:-//St Luke&#039;s Walking Club - ECPv6.15.20//NONSGML v1.0//EN
CALSCALE:GREGORIAN
METHOD:PUBLISH
X-WR-CALNAME:St Luke&#039;s Walking Club
X-ORIGINAL-URL:https://stlukeswalkingclub.org.uk
X-WR-CALDESC:Events for St Luke&#039;s Walking Club
REFRESH-INTERVAL;VALUE=DURATION:PT1H
X-Robots-Tag:noindex
X-PUBLISHED-TTL:PT1H
BEGIN:VTIMEZONE
TZID:Europe/London
BEGIN:DAYLIGHT
TZOFFSETFROM:+0000
TZOFFSETTO:+0100
TZNAME:BST
DTSTART:20250330T010000
END:DAYLIGHT
BEGIN:STANDARD
TZOFFSETFROM:+0100
TZOFFSETTO:+0000
TZNAME:GMT
DTSTART:20251026T010000
END:STANDARD
BEGIN:DAYLIGHT
TZOFFSETFROM:+0000
TZOFFSETTO:+0100
TZNAME:BST
DTSTART:20260329T010000
END:DAYLIGHT
BEGIN:STANDARD
TZOFFSETFROM:+0100
TZOFFSETTO:+0000
TZNAME:GMT
DTSTART:20261025T010000
END:STANDARD
BEGIN:DAYLIGHT
TZOFFSETFROM:+0000
TZOFFSETTO:+0100
TZNAME:BST
DTSTART:20270328T010000
END:DAYLIGHT
BEGIN:STANDARD
TZOFFSETFROM:+0100
TZOFFSETTO:+0000
TZNAME:GMT
DTSTART:20271031T010000
END:STANDARD
END:VTIMEZONE
BEGIN:VEVENT
DTSTART;TZID=Europe/London:20260101T103000
DTEND;TZID=Europe/London:20260101T123000
DTSTAMP:20260421T185800
CREATED:20251101T161915Z
LAST-MODIFIED:20251226T163653Z
UID:456-1767263400-1767270600@stlukeswalkingclub.org.uk
SUMMARY:Rickmansworth Aquadrome and Batchworth circular - New Year's Day.
DESCRIPTION:General Area: Rickmansworth Aquadrome and Batchworth circular.  Miles: about 4.5 easy.\nMeeting time: 10:45 as there is a Parkrun at 9:00. Meeting place: Outside café in Aquadrome.\nLeader: Peter Polkinghorne Leader’s phone: 07793378483\nTravel: from Harrow on the Hill Station take the northbound Metline train to Rickmansworth at 09.51 arriving at 10.13.\nNature of walk: as with previous years\, year we have changed the route to avoid the very muddy and flooded paths experienced in the last few years. As before we walk along Bury Lake towards Stockers Lake\, but just before we get there we take a footpath to the left and a bridge over the canal and then past Stockers Farm through woods and fields to Hill End and back to the café via Juniper Hill\, Batchworth Park Golf Course and Tesco. Here is a map of the walk. \nNote the public toilets at the Aquadrome will be closed\, so the only toilets on walk will be at the cafe\, available to customers or at Rickmansworth Station. \n 
URL:https://stlukeswalkingclub.org.uk/event/rickmansworth-aquadrome-and-batchworth-circular-new-years-day/
END:VEVENT
BEGIN:VEVENT
DTSTART;TZID=Europe/London:20260125T133000
DTEND;TZID=Europe/London:20260125T160000
DTSTAMP:20260421T185800
CREATED:20251101T162911Z
LAST-MODIFIED:20260115T161455Z
UID:460-1769347800-1769356800@stlukeswalkingclub.org.uk
SUMMARY:Capital Ring - Harrow to Wembley
DESCRIPTION:General Area: Harrow to Wembley via Capital Ring  Miles: about 4.5 easy.\nMeeting time: 13:30 (note afternoon) Meeting place: Lowlands Road side of Harrow on the Hill station\nLeader: Peter Polkinghorne Leader’s phone: 07793378483\nTravel: from Harrow on the Hill Station walk!\nNature of walk: an afternoon walk (please note)\, along the Capital Ring from Harrow to Wembley\, involving Harrow and Barn Hills. Exit points at Northwick Park\, South Kenton and Preston Road stations.
URL:https://stlukeswalkingclub.org.uk/event/to-be-advised-18/
END:VEVENT
BEGIN:VEVENT
DTSTART;TZID=Europe/London:20260127T100000
DTEND;TZID=Europe/London:20260127T140000
DTSTAMP:20260421T185800
CREATED:20251101T162946Z
LAST-MODIFIED:20251126T164229Z
UID:462-1769508000-1769522400@stlukeswalkingclub.org.uk
SUMMARY:Bushey to Rickmansworth via Ebury Way and Grand Union Canal  and lakes
DESCRIPTION:General Area:  Bushey to Rickmansworth via Ebury Way\, Grand Union Canal and lakes.\nMiles 7 Grade: Easy Moderate\nMeeting Time: 10.15 Meeting Place: Bushey Station\nLeader: Sue Aldridge Mobile: 07713 025494\nTravel: Overground Lioness Line – trains every 15 mins (also some faster NW trains stop at Bushey). or 258 Bus route stops at Bushey Station. Please meet outside the Eastbury Rd entrance to the station.\nNature of Walk:  As one of the early training walks\, it will be an easy\, short and gentle walk along mostly good tracks. We start walking through Oxhey Park alongside the River Colne which forms the Ebury Way route through Holywell towards the Croxley area. We then cross Croxley Common Moor on a good path to the bridges across the River Gade and GU canal. Here we’ll have a short mid – morning break by the lock. (not far from Croxley Stn). Then continue along the canal towpath passing lakes as we approach Batchworth where the R. Chess joins the waterways. We’ll walk alongside Batchworth lake to the Café/toilets at the Aquadrome for our picnic lunch break with time to use the café.. If some walkers wish to take a direct route from here to Rickmansworth Station the total distance will be 6 mls. After lunch (footpaths near the lakes permitting!) we will walk around Bury Lake\, seeing views of Stockers Lake before heading to Rickmansworth Station\, hopefully by 2pm. (Although paths are generally good with some paved\, part of the towpath may be muddy after recent rain with puddles so best to wear walking boots).
URL:https://stlukeswalkingclub.org.uk/event/to-be-advised-19/
END:VEVENT
BEGIN:VEVENT
DTSTART;TZID=Europe/London:20260131T103000
DTEND;TZID=Europe/London:20260131T143000
DTSTAMP:20260421T185800
CREATED:20251101T163017Z
LAST-MODIFIED:20260115T104951Z
UID:464-1769855400-1769869800@stlukeswalkingclub.org.uk
SUMMARY:Chorleywood to Chalfont and Latimer. 
DESCRIPTION:General Area: Chorleywood to Chalfont and Latimer.  Miles 6.5 moderate with one hill\nMeeting time: 10.30 Meeting place: Chorleywood Station\nLeader Glenn Connolly Leader’s Phone: 07816 847 621\nTravel: from Harrow on the Hill Station take the northbound Metropolitan Line train 09.55 arriving at Chorleywood at 10.16\nNature of walk: A woodland walk following the south side of the River Chess via Chenies where lunch/snack will be taken on the green. Continuing onto Chalfont and Latimer. Optional pub stop available here before heading home.\n 
URL:https://stlukeswalkingclub.org.uk/event/to-be-advised-20/
END:VEVENT
END:VCALENDAR