BEGIN:VCALENDAR
VERSION:2.0
PRODID:-//St Luke&#039;s Walking Club - ECPv6.15.20//NONSGML v1.0//EN
CALSCALE:GREGORIAN
METHOD:PUBLISH
X-WR-CALNAME:St Luke&#039;s Walking Club
X-ORIGINAL-URL:https://stlukeswalkingclub.org.uk
X-WR-CALDESC:Events for St Luke&#039;s Walking Club
REFRESH-INTERVAL;VALUE=DURATION:PT1H
X-Robots-Tag:noindex
X-PUBLISHED-TTL:PT1H
BEGIN:VTIMEZONE
TZID:Europe/London
BEGIN:DAYLIGHT
TZOFFSETFROM:+0000
TZOFFSETTO:+0100
TZNAME:BST
DTSTART:20240331T010000
END:DAYLIGHT
BEGIN:STANDARD
TZOFFSETFROM:+0100
TZOFFSETTO:+0000
TZNAME:GMT
DTSTART:20241027T010000
END:STANDARD
BEGIN:DAYLIGHT
TZOFFSETFROM:+0000
TZOFFSETTO:+0100
TZNAME:BST
DTSTART:20250330T010000
END:DAYLIGHT
BEGIN:STANDARD
TZOFFSETFROM:+0100
TZOFFSETTO:+0000
TZNAME:GMT
DTSTART:20251026T010000
END:STANDARD
BEGIN:DAYLIGHT
TZOFFSETFROM:+0000
TZOFFSETTO:+0100
TZNAME:BST
DTSTART:20260329T010000
END:DAYLIGHT
BEGIN:STANDARD
TZOFFSETFROM:+0100
TZOFFSETTO:+0000
TZNAME:GMT
DTSTART:20261025T010000
END:STANDARD
END:VTIMEZONE
BEGIN:VEVENT
DTSTART;TZID=Europe/London:20250916T100000
DTEND;TZID=Europe/London:20250916T170000
DTSTAMP:20260421T234120
CREATED:20250823T100600Z
LAST-MODIFIED:20250911T160523Z
UID:355-1758016800-1758042000@stlukeswalkingclub.org.uk
SUMMARY:To be advised - probably no walk
DESCRIPTION:
URL:https://stlukeswalkingclub.org.uk/event/to-be-advised-8/
END:VEVENT
BEGIN:VEVENT
DTSTART;TZID=Europe/London:20250913T103000
DTEND;TZID=Europe/London:20250913T150000
DTSTAMP:20260421T234120
CREATED:20250823T100518Z
LAST-MODIFIED:20250901T152827Z
UID:353-1757759400-1757775600@stlukeswalkingclub.org.uk
SUMMARY:Berkhamsted Circular
DESCRIPTION:General Area: Berkhamsted circular.  Miles: 7 steady\nMeeting Time: 10.30am  Meeting Place: Berkhamsted station\, main entrance.\nLeaders: Bob & Hilary Matheson  Leaders’ mobs: 07934 061231 (H) 07853 867614 (B)\nTravel: A LondonNorthwestern train leaves Harrow & Wealdstone at 9.51 and arrives in Berkhamsted at 10.16.\nIf driving\, there is parking at bottom of New Rd\, on the far side of the castle ruins\, approx 4 mins walk from station. (Be aware there is another New Rd in Berkhamsted – you need the one by the castle.)\nNature of Walk: This steadily paced walk will take us up via Berkhamsted Common and the Big Field to Potten End where we will have the lunch stop. Please bring sandwiches. The return will be down the lane and along the canal to the station.
URL:https://stlukeswalkingclub.org.uk/event/berkhamsted-circular/
END:VEVENT
BEGIN:VEVENT
DTSTART;TZID=Europe/London:20250901T100000
DTEND;TZID=Europe/London:20250901T160000
DTSTAMP:20260421T234120
CREATED:20250823T100318Z
LAST-MODIFIED:20250901T073143Z
UID:351-1756720800-1756742400@stlukeswalkingclub.org.uk
SUMMARY:Royal Parks - London
DESCRIPTION:General Area: Royal Parks (Kensington Gardens to St James Park) Miles: 4 easy with optional 1-2 mile extension\nMeeting time: 10:30 Meeting place: Quensway Station exit\nLeader: Peter Polkinghorne Leader’s phone: 07793 348483.\nTravel: take 9:46 Aldgate met line train from Harrow on the Hill station and change at Finchley Road to southbound Jubilee line train to Bond Street. There change on west bound Central line to Queensway.\nNature of walk: a pleasant walk through 4 Royal Parks from Kensington Gardens\, via Hyde Park and Green Park to St James Park. An optional extension along the Thames embankment to Embankment\, Temple or Blackfriars. Plenty of facilities en route plus sights as well.
URL:https://stlukeswalkingclub.org.uk/event/central-london-walk-peter-polkinghorne/
END:VEVENT
BEGIN:VEVENT
DTSTART;TZID=Europe/London:20250828T100000
DTEND;TZID=Europe/London:20250828T170000
DTSTAMP:20260421T234120
CREATED:20250518T174246Z
LAST-MODIFIED:20250811T090609Z
UID:217-1756375200-1756400400@stlukeswalkingclub.org.uk
SUMMARY:Amersham Circular
DESCRIPTION:General Area:  Amersham and Shardeloes  Miles:  8 miles\, moderate\nMeeting time: 10:10 am at station or approx 10.30 am at Amersham Old Town car park (payable). Meeting place: Amersham Underground Station or Old Town car park. Toilets at station and car park.\nLeader: Sara Reeves Leader’s phone: 07706518191\nTravel: From Harrow-on-Hill\, Met line\, 9:21 to Amersham or Chiltern Line at 9:35 to Amersham.\nNature of walk: This is a circular walk starting with a short stroll through the back streets of Old Amersham. We then walk past Amersham Cricket club\, up the Shardeloes valley and hike through Electric wood. Following field paths\, we will arrive at Little Missenden churchyard for our lunch stop. There will be an opportunity to visit the church (if open) and have a quick drink in The Red Lion pub. The return to Amersham is past Shardeloes house and lake and through the Old Town car park and back up the hill to the station. Please bring a picnic
URL:https://stlukeswalkingclub.org.uk/event/to-be-advised-7/
END:VEVENT
BEGIN:VEVENT
DTSTART;TZID=Europe/London:20250819T103000
DTEND;TZID=Europe/London:20250819T163000
DTSTAMP:20260421T234120
CREATED:20250518T174605Z
LAST-MODIFIED:20250801T120147Z
UID:219-1755599400-1755621000@stlukeswalkingclub.org.uk
SUMMARY:Tring Circular
DESCRIPTION:General Area:  Tring Circular via Tring Park\, Tring\, Reservoirs and Canals.\nMiles: 10.5 miles\, moderate steady pace.\nMeeting time: 10:25 Meeting place:Tring Railway Station – left across footbridge near ticket office\nLeader: Sue Aldridge Leader’s phone:07713 025494 on the day.\nEstimated Finish time 4.15pm.\nTravel:Depart Harrow & Wealdstone 9.51\, Watford Junc. 10.00\, Arrive Tring 10.21\nNature of walk: Setting off along a 2 ml stretch of ‘The Ridgeway’ south west\, we ascend steadily to Tring Park\, then descend across the park with good views across the Chiltern countryside and town of Tring. (we cross 2 high footbridges across the A41 in this section of the walk). The paths are then level for the rest of the walk. We will enter the old town centre of Tring\, originally sited where the prehistoric Icknield Way crossed the Roman Akeman St. The character of the town has been influenced by the Rothchild family who lived from 1872 to the 1940s in Tring Park at the mansion. We’ll have a late morning break in the Memorial Gardens with a chance to look at the small info. boards related to each years events of WW2 (appropriate as Aug 15th marks the 80th Anniv. of end of WW2)\, plus admire the giant Wellingtonia tree. We’ll leave the town centre via Church Square with hopefully a few minutes to have a look in at the 15th century church. (toilets close by). Continuing our walk north through a green corridor pathway leading out of the town to the Wendover Arm of the GU canal\, which we follow a short way through Little Tring towards Wilstone Reservoir. Our picnic lunch will possibly be along this quiet section of canal. (there will be a slight footpath diversion alongside Wilstone Reservoir due to ongoing Works\, so viewing the reservoir will be restricted). Soon after we will have a half hour refreshment stop for drinks etc. at Mead’s Farmhouse Kitchen\, where there is a café\, farm shop and toilets. (possibly allow a little space in your rucksack as you may be tempted to indulge in the farm shop!). Then we cross fields to join the GU canal to Startops/Marsworth Reservoirs\, passing many interesting canal locks on the way back to Tring Station.
URL:https://stlukeswalkingclub.org.uk/event/tring-circular/
END:VEVENT
BEGIN:VEVENT
DTSTART;TZID=Europe/London:20250816T103000
DTEND;TZID=Europe/London:20250816T170000
DTSTAMP:20260421T234120
CREATED:20250518T174139Z
LAST-MODIFIED:20250806T080603Z
UID:213-1755340200-1755363600@stlukeswalkingclub.org.uk
SUMMARY:Pinner & Ruislip – Celandine Route and Hillingdon Trail
DESCRIPTION:General Area: Pinner & Ruislip – Celandine Route and Hillingdon Trail\nMiles: 7.5 miles of easy walking on level paths (apart from one very gentle incline in the woods)\nMeeting Time: 10.30 a.m. Meeting Place: Pinner Station\nLeaders: Kay Waddilove & Margaret Huitson\nLeaders’ Mobiles: Kay 07518 365746; Margaret 07762 310509\nTravel: Pinner is on the Metropolitan tube line – frequent trains from London. Served by bus services 183\, H11\, H12\, H13. There are also pay car parks in Pinner.\nNature of Walk     This is a circular walk that takes in sheltered paths\, open fields and woodland. We follow the Celandine Route along the River Pinn\, through the grounds of Eastcote House and across Kings College playing fields\, then divert into Ruislip Woods\, passing the Lido and moving onto the wooded Hillingdon Trail\, before returning via the fields and streams of Pinner. Please bring a picnic for our early lunch stop at the Lido\, where there are seats on the green near the Turntable Tearoom which sells tea/coffee/soft drinks and also has public toilets. At the end of the walk\, we return to the station via Pinner Memorial Park which has a very nice café overlooking the lake.
URL:https://stlukeswalkingclub.org.uk/event/to-be-advised-5/
END:VEVENT
BEGIN:VEVENT
DTSTART;TZID=Europe/London:20250808T140000
DTEND;TZID=Europe/London:20250808T163000
DTSTAMP:20260421T234120
CREATED:20250518T174216Z
LAST-MODIFIED:20250724T105354Z
UID:215-1754661600-1754670600@stlukeswalkingclub.org.uk
SUMMARY:Headstone Manor Circular Walk
DESCRIPTION:General Area:  Headstone Manor Circular Walk Miles: 4 miles\, easy\nMeeting time: 14:00 (note afternoon) Meeting place: Pinner Station\nLeader: Peter Polkinghorne Leader’s phone: 07793378483\nTravel: from Harrow-on-Hill\, Met line\, 13:47 to Watford.\nNature of walk: an easy circular walk via Headstone Manor and Yeading Walk. Mostly  flat and a refreshment point at the Moat Cafe\, roughly halfway.
URL:https://stlukeswalkingclub.org.uk/event/to-be-advised-6/
END:VEVENT
BEGIN:VEVENT
DTSTART;TZID=Europe/London:20250803T080000
DTEND;TZID=Europe/London:20250803T170000
DTSTAMP:20260421T234120
CREATED:20250518T174106Z
LAST-MODIFIED:20250801T115151Z
UID:211-1754208000-1754240400@stlukeswalkingclub.org.uk
SUMMARY:No walk\, sorry
DESCRIPTION:
URL:https://stlukeswalkingclub.org.uk/event/to-be-advised-4/
END:VEVENT
BEGIN:VEVENT
DTSTART;TZID=Europe/London:20250723T113000
DTEND;TZID=Europe/London:20250723T150000
DTSTAMP:20260421T234120
CREATED:20250518T173753Z
LAST-MODIFIED:20250607T081351Z
UID:208-1753270200-1753282800@stlukeswalkingclub.org.uk
SUMMARY:Essex: Southminster to Burnham-on-Crouch
DESCRIPTION:General Area:  Southminster to Burnham-on-Crouch. Miles: 5 – 6 miles\, easy\nMeeting time: 11:30 Meeting place: Southminster Station\nLeader: Deborah Tyler Leader’s phone:0796 1382524\nTravel: from Harrow-on-Hill\, Met line\, 9:20 or 9:25 to Liverpool Street for Greater Anglia train\, destination Southend at 10.13  OR to Moorgate and take Elizabeth line to Stratford (same train\, 10.20 from platform 10)  or Shenfield (10.39 usually platform 4) Change at Wickford for the Crouch Valley line train (adjacent platform) dep Wickford 10.55 arriving Southminster ( terminus) at 11.26 Note: Freedom pass holders only need to pay for a ticket from Harold Wood( end of the zones) OR from Shenfield ( cheaper but means an extra change of train if taking Elizabeth Line and changing there for Wickford).\nNature of walk:\neasy 5 or 6 miles (Essex is flat!) down a lane from Southminster then path over fields to the river\, East of Burnham\, and along the sea wall path into Burnham-on-Crouch. A different route from the one led along the river Crouch several times by Hugo\nNo public lavatories in Southminster so use the train!\nRefreshments at Corner Cottage  ( also 6 pubs nearby) .\nReturn from station in Burnham\, easy 15/20 minute walk from Corner Cottage.\nTrains at 14.57\, 15.37\, 16.17 and a direct train without the change at Wickford to Stratford and Liverpool Street at 17.07
URL:https://stlukeswalkingclub.org.uk/event/to-be-advised-3/
END:VEVENT
BEGIN:VEVENT
DTSTART;TZID=Europe/London:20250719T080000
DTEND;TZID=Europe/London:20250719T170000
DTSTAMP:20260421T234120
CREATED:20250518T173724Z
LAST-MODIFIED:20250717T100634Z
UID:206-1752912000-1752944400@stlukeswalkingclub.org.uk
SUMMARY:Headstone Manor Circular Walk
DESCRIPTION:General Area:  Headstone Manor Circular Walk Miles: 4 miles\, easy\nMeeting time: 14:00 (note afternoon) Meeting place: Pinner Station\nLeader: Peter Polkinghorne Leader’s phone: 07793378483\nTravel: from Harrow-on-Hill\, Met line\, 13:47 to Watford.\nNature of walk: an easy circular walk via Headstone Manor and Yeading Walk. Mostly  flat and a refreshment point at the Moat Cafe\, roughly halfway. Be prepared for rain as a risk of thunderstorms at present.
URL:https://stlukeswalkingclub.org.uk/event/to-be-advised-2/
END:VEVENT
BEGIN:VEVENT
DTSTART;TZID=Europe/London:20250710T080000
DTEND;TZID=Europe/London:20250710T170000
DTSTAMP:20260421T234120
CREATED:20250518T173658Z
LAST-MODIFIED:20250709T193247Z
UID:204-1752134400-1752166800@stlukeswalkingclub.org.uk
SUMMARY:No walk - sorry
DESCRIPTION:
URL:https://stlukeswalkingclub.org.uk/event/to-be-advised/
END:VEVENT
BEGIN:VEVENT
DTSTART;TZID=Europe/London:20250706T120000
DTEND;TZID=Europe/London:20250706T170000
DTSTAMP:20260421T234120
CREATED:20250511T145646Z
LAST-MODIFIED:20250603T140747Z
UID:164-1751803200-1751821200@stlukeswalkingclub.org.uk
SUMMARY:Tonbridge and Tudeley Walk
DESCRIPTION:Meeting time: 12noon Meeting place: Tonbridge Station\nLeader: Michael Romain Leader’s phone: 07818 000849\nTravel:  from Harrow on the Hill Station take the 9.50 southbound Metline train to Finchley Road\, changing onto the southbound Jubilee Line train arriving at London Bridge at 10.22. Transfer to the mainline station to catch the 10.54 Southern train to Tonbridge. Michael will be waiting on the lower concourse at London Bridge before leaving for the platform at 10.45.\nNature of walk: this is a circular walk from Tonbridge via Tudeley through lovely countryside. The main purpose of the walk is to visit the beautiful church at Tudeley. All the windows are stained glass decorated by Marc Chagall. Michael has organised this walk previously for the Liberal Jewish Synagogue and we were invited to join them last year and are again this year. There will be a charge of £8 each to cover entry into the church and a contribution to the excellent guide. Any surplus made from St.Luke’s walkers payments will be donated to St. Luke’s Hospice as happened last year. Michael will accept payment on the day\, but would prefer payment by bank transfer. Bring a packed lunch which can be eaten in the churchyard before meeting the guide at about 14.00. We normally get back to London Bridge at about 1800. If you can let Michael know that you are coming\, that would be appreciated. To contact Michael by email romain@netgates.co.uk .
URL:https://stlukeswalkingclub.org.uk/event/tonbridge-and-tudeley-walk/
END:VEVENT
BEGIN:VEVENT
DTSTART;TZID=Europe/London:20250517T100000
DTEND;TZID=Europe/London:20250517T173000
DTSTAMP:20260421T234120
CREATED:20250511T145533Z
LAST-MODIFIED:20250511T145533Z
UID:162-1747476000-1747503000@stlukeswalkingclub.org.uk
SUMMARY:Christmas Common Circular
DESCRIPTION:General Area: Christmas Common Circular Miles: 15 Moderate / Challenging\nMeeting time: 10:00 Meeting place: Hills Road car park\, Watlington Hills OX49 5HS ( £3.00 parking fee )\nLeader: Glenn Connolly Leader’s phone: 07816847621\nTravel:  By Car: Take M40 to J5 and then A40 towards Oxford. Take first left sign posted for Christmas Common\, drive approx 3 miles and then turn right into Hills Road. The Car Park is approx.400 yards on left. Nearest post code OX49 5HS.\nNature of walk:  A beautiful walk through beechwoods and villages following the Oxfordshire Way from Christmas Common to Pishill and on to Stoner where we will a 1st stop overlooking Stonor House. We then continue to Turville and Fingest for a 2nd stop with a Pub before returning via Ibstone Common. Please bring a packed lunch.
URL:https://stlukeswalkingclub.org.uk/event/christmas-common-circular/
END:VEVENT
BEGIN:VEVENT
DTSTART;TZID=Europe/London:20250513T100000
DTEND;TZID=Europe/London:20250513T170000
DTSTAMP:20260421T234120
CREATED:20250511T145422Z
LAST-MODIFIED:20250511T145422Z
UID:160-1747130400-1747155600@stlukeswalkingclub.org.uk
SUMMARY:West Wycombe Walk
DESCRIPTION:General Area: West Wycombe Miles: 12 – Hilly (approx. 1600 feet of ascent)\nMeeting time: 10:00 Meeting place: Free car park next to St Lawrence Church\, West Wycombe Hill\, Church Ln\, High Wycombe HP14 3AP (up the hill from Hell Fire Caves)\nLeader: John Harper Leader’s phone: 07947 894 930\nTravel: Car: Take M40 to J4\, A4010 and A40 towards West Wycombe. Go through West Wycombe and then turn right into Oxford Road and immediately right again into Church Lane. Follow Church Lane past Hell Fire Caves and up the hill until you reach the car park. Grid ref SU827950.\nNature of walk: This walk has its ups and downs. We head south towards Towerage and Booker and then do some plane spotting as we walk along the edge of Booker Airfield. We move on to Lane End for lunch (please bring sandwiches) and pub stop. The return is via Wheeler End Common\, the edge of Piddington and Butlers Hanging nature reserve.
URL:https://stlukeswalkingclub.org.uk/event/west-wycombe-walk/
END:VEVENT
BEGIN:VEVENT
DTSTART;TZID=Europe/London:20250502T103000
DTEND;TZID=Europe/London:20250502T163000
DTSTAMP:20260421T234120
CREATED:20250428T171502Z
LAST-MODIFIED:20250428T171502Z
UID:139-1746181800-1746203400@stlukeswalkingclub.org.uk
SUMMARY:Ivinghoe Beacon and Ashridge Bluebell Beechwoods Circular
DESCRIPTION:Miles: 12-13 moderate\nMeeting time: 10:30 Meeting place: Tring Station (on right side of footbridge near carpark)\nLeader: Sue Aldridge Leader’s phone: 07713 025494 on the day only\nTravel: Depart Harrow & Wealdstone 9.51 Watford Junc. 10.00 Arrive Tring 10.21 (will be checked again nearer the time)\nNature of walk: From Tring Station follow ‘The Ridgeway’ to Ivinghoe Beacon. Then along the Gallows Hill ridge with views ahead to Dunstable Downs. Then walk through some of the best beechwoods on the Ashridge Estate\, finally descending to the canal to follow the towpath back to Tring Station. Picnic lunch on slopes of Ivinghoe Hills with splendid views. A later tea stop will be taken at the NT Visitor centre café with toilets. From the visitor centre the walk can be slightly shortened to 9-10 miles if a walker wishes to descend independently via Albury village\, with a more direct half hour easy walk to Tring Station. (Directions provided). The main group follows the wooded escarpment through the last bluebell wood\, to descend from Norcott Hill to the canal for the return to the station. (Map Explorer 181)
URL:https://stlukeswalkingclub.org.uk/event/ivinghoe-beacon-and-ashridge-bluebell-beechwoods-circular/
END:VEVENT
BEGIN:VEVENT
DTSTART;TZID=Europe/London:20250426T080000
DTEND;TZID=Europe/London:20250426T170000
DTSTAMP:20260421T234120
CREATED:20250409T081226Z
LAST-MODIFIED:20250409T081226Z
UID:119-1745654400-1745686800@stlukeswalkingclub.org.uk
SUMMARY:Sunday Walk
DESCRIPTION:Include information here
URL:https://stlukeswalkingclub.org.uk/event/sunday-walk/
END:VEVENT
BEGIN:VEVENT
DTSTART;TZID=Europe/London:20250407T080000
DTEND;TZID=Europe/London:20250407T170000
DTSTAMP:20260421T234120
CREATED:20250407T102613Z
LAST-MODIFIED:20250407T102613Z
UID:117-1744012800-1744045200@stlukeswalkingclub.org.uk
SUMMARY:Test Event
DESCRIPTION:These are the words
URL:https://stlukeswalkingclub.org.uk/event/test-event/
END:VEVENT
END:VCALENDAR