BEGIN:VCALENDAR
VERSION:2.0
PRODID:-//St Luke&#039;s Walking Club - ECPv6.15.20//NONSGML v1.0//EN
CALSCALE:GREGORIAN
METHOD:PUBLISH
X-ORIGINAL-URL:https://stlukeswalkingclub.org.uk
X-WR-CALDESC:Events for St Luke&#039;s Walking Club
REFRESH-INTERVAL;VALUE=DURATION:PT1H
X-Robots-Tag:noindex
X-PUBLISHED-TTL:PT1H
BEGIN:VTIMEZONE
TZID:Europe/London
BEGIN:DAYLIGHT
TZOFFSETFROM:+0000
TZOFFSETTO:+0100
TZNAME:BST
DTSTART:20250330T010000
END:DAYLIGHT
BEGIN:STANDARD
TZOFFSETFROM:+0100
TZOFFSETTO:+0000
TZNAME:GMT
DTSTART:20251026T010000
END:STANDARD
BEGIN:DAYLIGHT
TZOFFSETFROM:+0000
TZOFFSETTO:+0100
TZNAME:BST
DTSTART:20260329T010000
END:DAYLIGHT
BEGIN:STANDARD
TZOFFSETFROM:+0100
TZOFFSETTO:+0000
TZNAME:GMT
DTSTART:20261025T010000
END:STANDARD
BEGIN:DAYLIGHT
TZOFFSETFROM:+0000
TZOFFSETTO:+0100
TZNAME:BST
DTSTART:20270328T010000
END:DAYLIGHT
BEGIN:STANDARD
TZOFFSETFROM:+0100
TZOFFSETTO:+0000
TZNAME:GMT
DTSTART:20271031T010000
END:STANDARD
END:VTIMEZONE
BEGIN:VEVENT
DTSTART;TZID=Europe/London:20260516T100000
DTEND;TZID=Europe/London:20260516T160000
DTSTAMP:20260421T204453
CREATED:20251101T172048Z
LAST-MODIFIED:20260303T090106Z
UID:522-1778925600-1778947200@stlukeswalkingclub.org.uk
SUMMARY:Christmas Common
DESCRIPTION:General Area: Christmas Common Circular Miles: 15 Challenging with 1800 feet of ascent\nMeeting time: 10:00 Meeting place: Hills Road car park\, Watlington Hills OX49 5HS ( £3.00 parking fee )\nLeader: Glenn Connolly Leader’s Mobile: 07816847621\nTravel: By Car: Take M40 to J5 and then A40 towards Oxford. Take first left sign posted for Christmas Common\, drive approx 3 miles and then turn right into Hills Road. The Car Park is approx.400 yards on left. Nearest post code OX49 5HS.\nNature of walk: A beautiful walk through beechwoods and villages following the Oxfordshire Way from Christmas Common to Pishill and on to Stoner where we will a 1st stop overlooking Stonor House. We then continue to Turville and Fingest for a 2nd stop with a Pub before returning via Ibstone Common. Please bring a packed lunch.
URL:https://stlukeswalkingclub.org.uk/event/to-be-advised-49/
END:VEVENT
END:VCALENDAR