BEGIN:VCALENDAR
VERSION:2.0
PRODID:-//St Luke&#039;s Walking Club - ECPv6.15.20//NONSGML v1.0//EN
CALSCALE:GREGORIAN
METHOD:PUBLISH
X-ORIGINAL-URL:https://stlukeswalkingclub.org.uk
X-WR-CALDESC:Events for St Luke&#039;s Walking Club
REFRESH-INTERVAL;VALUE=DURATION:PT1H
X-Robots-Tag:noindex
X-PUBLISHED-TTL:PT1H
BEGIN:VTIMEZONE
TZID:Europe/London
BEGIN:DAYLIGHT
TZOFFSETFROM:+0000
TZOFFSETTO:+0100
TZNAME:BST
DTSTART:20250330T010000
END:DAYLIGHT
BEGIN:STANDARD
TZOFFSETFROM:+0100
TZOFFSETTO:+0000
TZNAME:GMT
DTSTART:20251026T010000
END:STANDARD
BEGIN:DAYLIGHT
TZOFFSETFROM:+0000
TZOFFSETTO:+0100
TZNAME:BST
DTSTART:20260329T010000
END:DAYLIGHT
BEGIN:STANDARD
TZOFFSETFROM:+0100
TZOFFSETTO:+0000
TZNAME:GMT
DTSTART:20261025T010000
END:STANDARD
BEGIN:DAYLIGHT
TZOFFSETFROM:+0000
TZOFFSETTO:+0100
TZNAME:BST
DTSTART:20270328T010000
END:DAYLIGHT
BEGIN:STANDARD
TZOFFSETFROM:+0100
TZOFFSETTO:+0000
TZNAME:GMT
DTSTART:20271031T010000
END:STANDARD
END:VTIMEZONE
BEGIN:VEVENT
DTSTART;TZID=Europe/London:20260312T100000
DTEND;TZID=Europe/London:20260312T160000
DTSTAMP:20260421T190727
CREATED:20251101T164301Z
LAST-MODIFIED:20251126T164722Z
UID:486-1773309600-1773331200@stlukeswalkingclub.org.uk
SUMMARY:Tring to College Lake Nature Reserve Circular
DESCRIPTION:General Area: Tring to College Lake Nature Reserve Circular Miles: 9 Moderate\nMeeting Time:  10.25       Meeting Place: Tring Station\nLeader:  Sue Aldridge   Mobile: 07713 025494\nTravel:  Depart Harrow & Wealdstone 9.51   Watford Junc. 10.00    Arrive Tring 10.21\nNature of Walk: We follow ‘The Ridgeway’ over Pitstone Hill with good views towards Ivinghoe Beacon. Descend to Pitstone village and College Lake Wildlife Centre at Bulbourne. The nature reserve with lakes are set in former chalk quarries\, supporting more than a thousand different wildlife species. The Eco Visitor Centre has stunning views of these lakes and has a small café\, gift shop and toilets. Bring picnic lunch to have outside with view of lakes and birdlife\, with time for drinks at the café later\, possibly after we have completed the 2 mile ‘Wild Trail’ that follows good\, even paths around the nature reserve\, giving lovely views across the area\, hopefully spotting birds from the hides. On leaving the centre\, we follow an easy route back to Tring Station along the towpath of the Grand Union Canal.
URL:https://stlukeswalkingclub.org.uk/event/to-be-advised-31/
END:VEVENT
BEGIN:VEVENT
DTSTART;TZID=Europe/London:20260314T101500
DTEND;TZID=Europe/London:20260314T160000
DTSTAMP:20260421T190727
CREATED:20251101T164334Z
LAST-MODIFIED:20260205T214936Z
UID:488-1773483300-1773504000@stlukeswalkingclub.org.uk
SUMMARY:Viaduct and Visions Walk
DESCRIPTION:  \nGeneral Area: Digswell & Welwyn North (Circular) Miles: 10 miles moderate\nMeeting time: 10.15am\nMeeting Place: Digswell viaduct car park (free parking)\, Digswell Park Road\, Welwyn Garden City AL6\n0BB\nTravel Details: Travelling north\, take A1 and A1(M) and exit at junction 6. Continue on Welwyn By Pass\nRd/A1000 and continue on Hertford Road passing the viaduct\, then take the first sharp right\ninto Digswell Park Road to the carpark on the right.\nLeader: Hansa Jadva-Patel. Leader’s mobile: 07752 249341\nNature of walk: A circular walk mainly through woods and fields. The walk starts at Digswell viaduct\,\na Grade II listed structure and continues to Tewin and Bramfield where we will stop for a picnic lunch.\nAfter lunch we will continue passing the 16th century Queen Hoo Hall\, to Bull’s Green where we will\nhave a short drinks stop at the 16th century pub (The Horn) and possibly encounter an apparitional\nexperience! The walk continues via Burnham Green to return back to Welwyn North \n 
URL:https://stlukeswalkingclub.org.uk/event/to-be-advised-32/
END:VEVENT
BEGIN:VEVENT
DTSTART;TZID=Europe/London:20260316T103000
DTEND;TZID=Europe/London:20260316T153000
DTSTAMP:20260421T190727
CREATED:20251101T164413Z
LAST-MODIFIED:20260110T165215Z
UID:490-1773657000-1773675000@stlukeswalkingclub.org.uk
SUMMARY:Chorleywood to Chesham
DESCRIPTION:General area: Chorleywood to Chesham Miles: 9.1\nMeeting time: 10:40 Meeting Place: Chorleywood Station\nLeader: Michael Romain Mobile: 07818 000849\nTravel: from Harrow on the Hill Station take the Metropolitan line (10:06 arriving 10:36) or Chiltern line  (10:05 arriving 10:24) to Chorleywood.\nNature of walk: I have not led this walk for St Luke’s before. There is much open country. There is an opportunity for lunch at Ley Hill. I have devised a route where we manage to avoid built-up areas. It’s a lovely walk.
URL:https://stlukeswalkingclub.org.uk/event/to-be-advised-33/
END:VEVENT
BEGIN:VEVENT
DTSTART;TZID=Europe/London:20260321T100000
DTEND;TZID=Europe/London:20260321T160000
DTSTAMP:20260421T190727
CREATED:20251101T171216Z
LAST-MODIFIED:20260303T085611Z
UID:494-1774087200-1774108800@stlukeswalkingclub.org.uk
SUMMARY:Saunderton via Bledlow Circular.
DESCRIPTION:General Area: Saunderton via Bledlow Circular. Miles: 11 Moderate\, undulating with 3 good hills\nMeeting time: 10:00 Meeting place: Saunderton Station\nLeader: Glenn Connolly Leader’s Mobile: 07816847621\nTravel: Take the direct Chiltern Line train from London Marylebone at 08.52  calling at (Wembley Stadium 09.01\, Northolt Park 09.07\, South Ruislip 09.12\, West Ruislip 09.17) arriving at Saunderton  09.51.\nIf driving\, there is a Free Car Park at Saunderton Station. Slough Lane\, HP14 4LJ\nNature of walk: A circular walk through the peaceful Chiltern Hills\, taking in a few good hills and many fine views over the valley and plain. The walk follows the valley bottom before following the ridgeway then passing through a series of secluded valleys before reaching Radnage and then Bledlow Ridge and back along the valley to Saunderton. Please bring a packed lunch\, possible pub stop in Bledlow depending on time
URL:https://stlukeswalkingclub.org.uk/event/to-be-advised-35/
END:VEVENT
BEGIN:VEVENT
DTSTART;TZID=Europe/London:20260323T103000
DTEND;TZID=Europe/London:20260323T130000
DTSTAMP:20260421T190727
CREATED:20251101T164514Z
LAST-MODIFIED:20260316T131259Z
UID:492-1774261800-1774270800@stlukeswalkingclub.org.uk
SUMMARY:Royal Parks (Kensington Gardens to St James Park)
DESCRIPTION:General Area: Royal Parks (Kensington Gardens to St James Park) Miles: 4 easy with optional 1-2 mile extension\nMeeting time: 10:30 Meeting place: Quensway Station exit\nLeader: Peter Polkinghorne Leader’s phone: 07793 378483\nTravel: take 9:46 Met line train from Harrow on the Hill station and change at Finchley Road to southbound Jubilee line train to Bond Street. There change on west bound Central line to Queensway.\nNature of walk: a pleasant walk through 4 Royal Parks from Kensington Gardens\, via Hyde Park and Green Park to St James Park. An optional extension along the Thames embankment to Embankment\, Temple or Blackfriars. Plenty of facilities en route plus sights as well. Packed lunch optional\, depending on how far you walk and what else you wish to do. \nNote change of day from Wednesday to Monday. \n 
URL:https://stlukeswalkingclub.org.uk/event/to-be-advised-34/
END:VEVENT
BEGIN:VEVENT
DTSTART;TZID=Europe/London:20260328T103000
DTEND;TZID=Europe/London:20260328T160000
DTSTAMP:20260421T190727
CREATED:20251101T171250Z
LAST-MODIFIED:20260319T101405Z
UID:496-1774693800-1774713600@stlukeswalkingclub.org.uk
SUMMARY:Moor Park to Croxley
DESCRIPTION:General Area: Moor Park to Croxley Miles: 11 with options to leave at 4 miles Croxley station and 8.5 miles Rickmansworth station.\nMeeting time: 10.30  Meeting Place: Moor Park Met Line Station at Sandy Lodge Station Exit\nLeader: John Crane Mobile: 07896255343\nTravel: Take the Metropolitan line 10.05 from Harrow on the Hill to Moor Park arrives 10.26\nNature of walk: Easy at a faster pace  following Ebury Way\, Grand Union Canal to Croxley Green\, Batchworth and river Gade to Croxley Met line station.\nHopefully a flat mud free trail.\nBring sandwiches with  a possible pub and toilet stop.
URL:https://stlukeswalkingclub.org.uk/event/to-be-advised-36/
END:VEVENT
BEGIN:VEVENT
DTSTART;TZID=Europe/London:20260402T100000
DTEND;TZID=Europe/London:20260402T160000
DTSTAMP:20260421T190727
CREATED:20251101T171324Z
LAST-MODIFIED:20260326T205538Z
UID:498-1775124000-1775145600@stlukeswalkingclub.org.uk
SUMMARY:Moor Park to Stanmore following the London Loop.
DESCRIPTION:General Area: Moor Park to Stanmore via London Loop Miles: 10.5\nMeeting time: 10.00  Meeting Place: Moor Park station (Go through ticket barrier and we will congregate just outside the station)\nLeader: John Harper Mobile: 07947 894 930\nTravel: Take the Metropolitan line 09:37 from Harrow on the Hill to Moor Park arrives 09:57\nNature of walk: The walk follows the route of the London Loop\, linking a number of wooded areas and green spaces. These include Big Wood\, Oxhey Wood\, Grims Dyke\, Harrow Weald Common\, Bentley Priory and Stanmore Common. The walk is not hilly and relatively mud free at the time of the recce (March 26). (For those familiar with the route\, we will be avoiding Pinnerwood farm!!) \nWe will have a coffee and loo stop at Pinner Hill Golf club and an “alfresco” lunch at the Old Redding viewpoint. Please bring sandwiches.
URL:https://stlukeswalkingclub.org.uk/event/to-be-advised-37/
END:VEVENT
BEGIN:VEVENT
DTSTART;TZID=Europe/London:20260407T103000
DTEND;TZID=Europe/London:20260407T160000
DTSTAMP:20260421T190727
CREATED:20251101T171351Z
LAST-MODIFIED:20260405T064334Z
UID:500-1775557800-1775577600@stlukeswalkingclub.org.uk
SUMMARY:Chesham to Chorleywood
DESCRIPTION:Note change of destination to Chorleywood due to lack of trains at Tring. \nGeneral area: Chesham to Chorleywood Miles: 9.5 moderate\nMeeting time: 10:20 Meeting Place: Chesham Station\nLeader: Michael Romain Mobile: 07818 000849\nTravel: from Harrow on the Hill Station take the Metropolitan line (9:41 arriving 10:17) to Chesham.\nNature of walk: We meet at Chesham Metropolitan line station. Now we will walk to Chorleywood due to lack of trains at Tring.  We walk down to Herbert’s Hole and then we cut off northwards up and down cross country. There are choices of two pubs to stop at and it is a delightful entry across Tring Park down to Tring railway station and the main line with frequent trains back to Euston.
URL:https://stlukeswalkingclub.org.uk/event/to-be-advised-38/
END:VEVENT
BEGIN:VEVENT
DTSTART;TZID=Europe/London:20260411T100000
DTEND;TZID=Europe/London:20260411T160000
DTSTAMP:20260421T190727
CREATED:20251101T171421Z
LAST-MODIFIED:20260407T205415Z
UID:502-1775901600-1775923200@stlukeswalkingclub.org.uk
SUMMARY:Berkhamsted Circular
DESCRIPTION:General Area: Berkhamsted Miles : 11.5 miles challenging\, undulating with hills\nMeeting Time: 10.00 Meeting Place: Berkhamsted Station.\nLeaders Phones: Glenn Connolly 07816847621 Claire Scanlan\nTravel: From Harrow and Wealdstone take the Chiltern Railways (West Midland) train leaving at 9.21 arriving at Berkhamsted at 9.46.\nIf driving\, there is free parking on some side streets\, particularly Brownlow Rd / Castle Hill\nNature of Walk: There will be hills and then a few more\, we will walk woodland trails and pass ghosts and lizards too.\nWhat more could you want??? We will be passing through Potten End\, Nettleden and beyond. There will be a pub\nstop at The Alford Arms in Frithdean which will also be the lunch stop so please bring lunch. There will be multiple\nwater stops as we go and no rush at all……and did we mention FUN TIMES!!!!!!!!
URL:https://stlukeswalkingclub.org.uk/event/to-be-advised-39/
END:VEVENT
BEGIN:VEVENT
DTSTART;TZID=Europe/London:20260413T100000
DTEND;TZID=Europe/London:20260413T150000
DTSTAMP:20260421T190727
CREATED:20251101T171455Z
LAST-MODIFIED:20260312T215025Z
UID:504-1776074400-1776092400@stlukeswalkingclub.org.uk
SUMMARY:Four villages circular walk from Amersham.
DESCRIPTION:General Area: Four villages circular walk from Amersham. Miles: 9 moderate\nMeeting time: 10.00 am. Meeting place: Amersham station\nLeader: Chris Hughes  Mobile: 07821 806661\nTravel: Take the 9.25am Met train from Harrow on the Hill to Amersham\, arriving at 9.57am. If you are driving you can park in Amersham Old Town car park\, where we’ll meet you at about 10.15am\, after walking from the station.\nNature of the walk: This walk starts at Amersham station and takes in the four villages of Coleshill\, Winchmore Hill\, Penn Street and Little Missenden. A walk through delightful villages\, woods and farmland.\nBring a packed lunch\, but there is the opportunity to buy drinks at the Red Lion pub in Little Missenden where we’ll have lunch.
URL:https://stlukeswalkingclub.org.uk/event/to-be-advised-40/
END:VEVENT
BEGIN:VEVENT
DTSTART;TZID=Europe/London:20260419T100000
DTEND;TZID=Europe/London:20260419T160000
DTSTAMP:20260421T190727
CREATED:20251101T171530Z
LAST-MODIFIED:20260303T090334Z
UID:506-1776592800-1776614400@stlukeswalkingclub.org.uk
SUMMARY:Saunderton No.2 via West Wycombe Circular
DESCRIPTION:General Area: Saunderton No.2 via West Wycombe Circular Miles: 11 Moderate with hills\nMeeting time: 10:00 Meeting place: Saunderton Station\nLeader: Glenn Connolly  Leader’s Mobile: 07816847621\nTravel: Take the direct Chiltern Line train from London Marylebone at 08.52  calling at (Wembley Stadium 09.01\, Northolt Park 09.07\, South Ruislip 09.12\, West Ruislip 09.19) arriving at Saunderton  09.51\n\nIf driving\, there is a Free Car Park at Saunderton Station. Postcode HP14 4HX\nNature of Walk: A lovely walk over the Chiltern hills and woodlands leaving Saunderton heading towards Bradenham and onto Hughenden Manor for a lunch stop\, toilets can be found here as well as a tea room. Then continuing towards West Wycombe (Hell Fire Caves) and returning along the ridge to Saunderton. Please bring lunch although we will hopefully stop at a pub later in the day. A walk I normally do in the Autumn but thought you might like to see it in the Spring. Come along!!!!
URL:https://stlukeswalkingclub.org.uk/event/to-be-advised-41/
END:VEVENT
BEGIN:VEVENT
DTSTART;TZID=Europe/London:20260422T103000
DTEND;TZID=Europe/London:20260422T150000
DTSTAMP:20260421T190727
CREATED:20251101T171709Z
LAST-MODIFIED:20260402T204812Z
UID:510-1776853800-1776870000@stlukeswalkingclub.org.uk
SUMMARY:Cancelled due to Tube strike
DESCRIPTION:
URL:https://stlukeswalkingclub.org.uk/event/to-be-advised-43/
END:VEVENT
BEGIN:VEVENT
DTSTART;TZID=Europe/London:20260425T100000
DTEND;TZID=Europe/London:20260425T160000
DTSTAMP:20260421T190727
CREATED:20251101T171609Z
LAST-MODIFIED:20260323T172513Z
UID:508-1777111200-1777132800@stlukeswalkingclub.org.uk
SUMMARY:Buckinghamshire Village Walk - Lane End
DESCRIPTION:General Area: Lane End      Miles: 11.5 miles challenging with 3-4 hills\nMeeting time: 10.00am       Meeting place: Lane End Village car park.\nLeader: Hansa Jadva-Patel.       Leader’s mobile: 07752 249341\nTravel: By car: take the M40 to Jct 4 and at the roundabout\, take the Aylesbury exit (A4010)\, turn left at Cressex Rd and right onto Clay Lane (B482) to Lane End. Car park is on the right\, after the pedestrian crossing.  Grid ref SU807918; postcode HP14 3ER.\nPlease park at rear end of car park.   Free parking with toilets.\nNature of walk: A pleasant scenic walk through woods and across farm and common land\, taking in the pretty Buckinghamshire villages of Wheelers End\, Cadmore End\, Ibstone\, Turville and Fingest.  The route is undulating with around 1400ft of elevation spread over the course of the walk.  Please bring a packed lunch and drinks for the day. There is the possibility of a drink at lunch break in Ibstone.
URL:https://stlukeswalkingclub.org.uk/event/to-be-advised-42/
END:VEVENT
BEGIN:VEVENT
DTSTART;TZID=Europe/London:20260428T100000
DTEND;TZID=Europe/London:20260428T150000
DTSTAMP:20260421T190727
CREATED:20260417T175148Z
LAST-MODIFIED:20260421T170827Z
UID:813-1777370400-1777388400@stlukeswalkingclub.org.uk
SUMMARY:Walk from Amersham Station to Martin's funeral
DESCRIPTION:General area: Amersham Miles: 9 easy (first part 1.9 miles)\nMeeting time: 10:10 Meeting Place: Amersham Station\nLeader: Michael Romain Mobile: 07818 000849\nTravel: From Harrow on the Hill station: the choices are the 09:25 Met line arriving at Amersham at 9:59 or the 09:39 Chiltern Railway arriving at 10:02.\nNature of Walk: Meet at Amersham Station at 10:20. We then walk the 1.9 miles to the crematorium aiming to reach there by 11:00. The service is at 11:30.\nWe leave the crematorium after the service and walk the 2.5 miles to The Hit or Miss public house in Penn Street. I’m sure that those who will want to hitch a ride from somebody might be able to do so but I will walk.\nAfter the Pub there is a walk of about 4.5 miles back to Amersham. this is not the most direct\, but it is certainly the prettiest.\nThe total length is about 9 miles with the potential option of reducing it by 2 1/2 miles if you get a lift from the crematorium to the Pub.\nI think it would be a fitting way to remember Martin by walking on the day of his funeral.\nI will do a recce of the whole walk before the 28th.\nI guarantee that I will come into the pub this time and I certainly won’t be bringing a packed lunch.
URL:https://stlukeswalkingclub.org.uk/event/walk-from-amersham-station-to-martins-funeral/
END:VEVENT
BEGIN:VEVENT
DTSTART;TZID=Europe/London:20260501T100000
DTEND;TZID=Europe/London:20260501T160000
DTSTAMP:20260421T190727
CREATED:20251101T171804Z
LAST-MODIFIED:20260220T185753Z
UID:512-1777629600-1777651200@stlukeswalkingclub.org.uk
SUMMARY:Ashridge Estate Circular to explore Best Bluebell Woods
DESCRIPTION:General Area:-  Ashridge Estate Circular to explore Best Bluebell Woods  Miles  11.5  Grade  Moderate\nMeeting Time 10.25   Meeting Place  Tring Station  (on right side of footbridge near carpark)\nLeader  Sue Aldridge  Leaders Mobile  07713 025494  on the day only.\nTravel:-  Depart Harrow & Wealdstone  9.51\,  Watford Junc. 10.00\,  Arrive Tring 10.21\nNature of Walk:-  Departing from Tring Station we soon ascend the wooded scarp slope into the Ashridge Estate to walk through Copse Wood to have our first glimpse of the bluebells. We have a brief break at the visitor centre\, mainly for toilets and quick drinks. Then we loop round Ashridge Park\, crossing the golf course heading towards Little Gaddesden. Picnic lunch probably on edge of golf course area\, a short distance from ‘The Bridgewater Arms’ Pub where we hope to have time for drinks and use of toilets. (P.S. Very limited seating where we have our picnic so best bring a sitting mat in case grass is damp). We then continue via Ringshall and soon will walk round Crawley Wood and Dockey Wood\, well known for their fantastic displays of bluebells. As it is the day leading up to the bank holiday weekend there is likely to be a small NT admission charge of approx. £3.50\, preferably cash\, to be able to walk round Dockey Wood\, but if you are a National Trust Member\, please bring your membership card to allow free access to Dockey Wood. Later\, we will trek south along small tracks through the heart of the forest\, hopefully seeing even more bluebells on our way back to the visitor centre\, where we will have a much needed tea and toilet stop. Lastly\, the descent down through scenic Albury village will soon bring us back to catch the train home from Tring Station. \nAlthough a fairly long walk\, there is only one steepish ascent early on in the morning\, then most of the walk is gently undulating with quite a few flat sections. Some possible muddy tracks in woodland areas\, particularly if there has been recent wet weather. Walking poles may be helpful if you normally use them as a few paths may be a bit rough and uneven. No toilets at Tring Station but will have two stops at Visitor Centre for toilets on outward and returning walk\, plus at the Pub.
URL:https://stlukeswalkingclub.org.uk/event/to-be-advised-44/
END:VEVENT
BEGIN:VEVENT
DTSTART;TZID=Europe/London:20260503T100000
DTEND;TZID=Europe/London:20260503T160000
DTSTAMP:20260421T190727
CREATED:20251101T171834Z
LAST-MODIFIED:20251104T205246Z
UID:514-1777802400-1777824000@stlukeswalkingclub.org.uk
SUMMARY:Hampden Climber
DESCRIPTION:To be led by Tony Prothero
URL:https://stlukeswalkingclub.org.uk/event/to-be-advised-45/
END:VEVENT
BEGIN:VEVENT
DTSTART;TZID=Europe/London:20260505T100000
DTEND;TZID=Europe/London:20260505T160000
DTSTAMP:20260421T190727
CREATED:20251101T171909Z
LAST-MODIFIED:20260402T204710Z
UID:516-1777975200-1777996800@stlukeswalkingclub.org.uk
SUMMARY:Chesham Outer Ring.
DESCRIPTION:General Area: Chesham Outer Ring. Miles: 8 miles moderate walking\, with uphill sections\nMeeting Time: 10:30 Meeting Place: Chesham Station\nLeaders: Kay Waddilove & Margaret Huitson\nLeaders’ Mobiles: Kay 07518 365746; Margaret 07762 310509\nTravel: From Harrow on the Hill Station take the 9.37 a.m. Metropolitan\nline train to Chesham\, arriving at 10.19 a.m. There is also a pay\ncar park at Chesham Station (payment by machine/phone/app).\nNature of Walk: This is a circular rural walk that goes through the open country\nand ancient woodlands around Chesham with outstanding views\nof the surrounding countryside\, valleys and farms. There are a\nfew steep sections (good practice for those undertaking the\nCornish Coastal Challenge!)\, but it is possible to shorten the\nwalk at several points. Please bring a picnic for our lunch stop\nwhere there will be an opportunity to get a drink and use the\ntoilets at The King Charles pub. We then continue across open\nfield land to return to Chesham station\, where Metropolitan line\ntrains run regularly to Harrow\, Wembley and into London.
URL:https://stlukeswalkingclub.org.uk/event/to-be-advised-46/
END:VEVENT
BEGIN:VEVENT
DTSTART;TZID=Europe/London:20260509T100000
DTEND;TZID=Europe/London:20260509T160000
DTSTAMP:20260421T190727
CREATED:20251101T171944Z
LAST-MODIFIED:20260316T085336Z
UID:518-1778320800-1778342400@stlukeswalkingclub.org.uk
SUMMARY:Amersham to Northwood Hills
DESCRIPTION:General Area: Amersham to Northwood Hills Miles: 15\, easy start\, but then harder\nMeeting time: 10:05am Meeting place: Amersham station\nLeader: Peter Polkinghorne Leader’s phone: 07793 348483\nTravel: From Harrow-on-Hill\, 9:25 Met line to Amersham or 9:35 Chilterns line to Amersham \nNature of walk: Gentle walk down to the Misbourne valley to Chalfont St Peter for lunch stop (shops\, pubs & toilets). Bringing a packed lunch recommended. Then over hills and past HS2 works to Colne valley and Grand Union canal. Finally up to Harefield\, Ruislip woods & lido and finally Haste Hill. There are break points for buses at Chalfont St Peter\, Harefield & Ruislip Lido.
URL:https://stlukeswalkingclub.org.uk/event/to-be-advised-47/
END:VEVENT
BEGIN:VEVENT
DTSTART;TZID=Europe/London:20260512T103000
DTEND;TZID=Europe/London:20260512T160000
DTSTAMP:20260421T190727
CREATED:20251101T172017Z
LAST-MODIFIED:20260119T140034Z
UID:520-1778581800-1778601600@stlukeswalkingclub.org.uk
SUMMARY:Watford Metropolitan line station to Berkhamsted Station
DESCRIPTION:General area: Watford Metropolitan line station to Berkhamsted Station Miles: 11.3 easy\nMeeting time: 10:30 Meeting Place: Watford Metropolitan Line Station\nLeader: Michael Romain Mobile: 07818 000849\nTravel: from Harrow on the Hill Station take the Metropolitan line (10:02 arriving 10:22)  to Watford.\nNature of walk: This walk starts through Cassiobury Park and then joins the canal and we walk north. It is a pleasant Canal sidewalk. There is a café at a Garden Centre en route which has proved popular in the past. I still take my own sandwiches! There are frequent trains back from Berkhamsted to Euston. For those who have the energy a walk around the ruins of Berkhampstead Castle which is owned by English Heritage is worthwhile.
URL:https://stlukeswalkingclub.org.uk/event/to-be-advised-48/
END:VEVENT
BEGIN:VEVENT
DTSTART;TZID=Europe/London:20260516T100000
DTEND;TZID=Europe/London:20260516T160000
DTSTAMP:20260421T190727
CREATED:20251101T172048Z
LAST-MODIFIED:20260303T090106Z
UID:522-1778925600-1778947200@stlukeswalkingclub.org.uk
SUMMARY:Christmas Common
DESCRIPTION:General Area: Christmas Common Circular Miles: 15 Challenging with 1800 feet of ascent\nMeeting time: 10:00 Meeting place: Hills Road car park\, Watlington Hills OX49 5HS ( £3.00 parking fee )\nLeader: Glenn Connolly Leader’s Mobile: 07816847621\nTravel: By Car: Take M40 to J5 and then A40 towards Oxford. Take first left sign posted for Christmas Common\, drive approx 3 miles and then turn right into Hills Road. The Car Park is approx.400 yards on left. Nearest post code OX49 5HS.\nNature of walk: A beautiful walk through beechwoods and villages following the Oxfordshire Way from Christmas Common to Pishill and on to Stoner where we will a 1st stop overlooking Stonor House. We then continue to Turville and Fingest for a 2nd stop with a Pub before returning via Ibstone Common. Please bring a packed lunch.
URL:https://stlukeswalkingclub.org.uk/event/to-be-advised-49/
END:VEVENT
END:VCALENDAR