BEGIN:VCALENDAR
VERSION:2.0
PRODID:-//St Luke&#039;s Walking Club - ECPv6.15.20//NONSGML v1.0//EN
CALSCALE:GREGORIAN
METHOD:PUBLISH
X-ORIGINAL-URL:https://stlukeswalkingclub.org.uk
X-WR-CALDESC:Events for St Luke&#039;s Walking Club
REFRESH-INTERVAL;VALUE=DURATION:PT1H
X-Robots-Tag:noindex
X-PUBLISHED-TTL:PT1H
BEGIN:VTIMEZONE
TZID:Europe/London
BEGIN:DAYLIGHT
TZOFFSETFROM:+0000
TZOFFSETTO:+0100
TZNAME:BST
DTSTART:20250330T010000
END:DAYLIGHT
BEGIN:STANDARD
TZOFFSETFROM:+0100
TZOFFSETTO:+0000
TZNAME:GMT
DTSTART:20251026T010000
END:STANDARD
BEGIN:DAYLIGHT
TZOFFSETFROM:+0000
TZOFFSETTO:+0100
TZNAME:BST
DTSTART:20260329T010000
END:DAYLIGHT
BEGIN:STANDARD
TZOFFSETFROM:+0100
TZOFFSETTO:+0000
TZNAME:GMT
DTSTART:20261025T010000
END:STANDARD
BEGIN:DAYLIGHT
TZOFFSETFROM:+0000
TZOFFSETTO:+0100
TZNAME:BST
DTSTART:20270328T010000
END:DAYLIGHT
BEGIN:STANDARD
TZOFFSETFROM:+0100
TZOFFSETTO:+0000
TZNAME:GMT
DTSTART:20271031T010000
END:STANDARD
END:VTIMEZONE
BEGIN:VEVENT
DTSTART;TZID=Europe/London:20260323T103000
DTEND;TZID=Europe/London:20260323T130000
DTSTAMP:20260421T172053
CREATED:20251101T164514Z
LAST-MODIFIED:20260316T131259Z
UID:492-1774261800-1774270800@stlukeswalkingclub.org.uk
SUMMARY:Royal Parks (Kensington Gardens to St James Park)
DESCRIPTION:General Area: Royal Parks (Kensington Gardens to St James Park) Miles: 4 easy with optional 1-2 mile extension\nMeeting time: 10:30 Meeting place: Quensway Station exit\nLeader: Peter Polkinghorne Leader’s phone: 07793 378483\nTravel: take 9:46 Met line train from Harrow on the Hill station and change at Finchley Road to southbound Jubilee line train to Bond Street. There change on west bound Central line to Queensway.\nNature of walk: a pleasant walk through 4 Royal Parks from Kensington Gardens\, via Hyde Park and Green Park to St James Park. An optional extension along the Thames embankment to Embankment\, Temple or Blackfriars. Plenty of facilities en route plus sights as well. Packed lunch optional\, depending on how far you walk and what else you wish to do. \nNote change of day from Wednesday to Monday. \n 
URL:https://stlukeswalkingclub.org.uk/event/to-be-advised-34/
END:VEVENT
END:VCALENDAR