BEGIN:VCALENDAR
VERSION:2.0
PRODID:-//St Luke&#039;s Walking Club - ECPv6.15.20//NONSGML v1.0//EN
CALSCALE:GREGORIAN
METHOD:PUBLISH
X-ORIGINAL-URL:https://stlukeswalkingclub.org.uk
X-WR-CALDESC:Events for St Luke&#039;s Walking Club
REFRESH-INTERVAL;VALUE=DURATION:PT1H
X-Robots-Tag:noindex
X-PUBLISHED-TTL:PT1H
BEGIN:VTIMEZONE
TZID:Europe/London
BEGIN:DAYLIGHT
TZOFFSETFROM:+0000
TZOFFSETTO:+0100
TZNAME:BST
DTSTART:20250330T010000
END:DAYLIGHT
BEGIN:STANDARD
TZOFFSETFROM:+0100
TZOFFSETTO:+0000
TZNAME:GMT
DTSTART:20251026T010000
END:STANDARD
BEGIN:DAYLIGHT
TZOFFSETFROM:+0000
TZOFFSETTO:+0100
TZNAME:BST
DTSTART:20260329T010000
END:DAYLIGHT
BEGIN:STANDARD
TZOFFSETFROM:+0100
TZOFFSETTO:+0000
TZNAME:GMT
DTSTART:20261025T010000
END:STANDARD
BEGIN:DAYLIGHT
TZOFFSETFROM:+0000
TZOFFSETTO:+0100
TZNAME:BST
DTSTART:20270328T010000
END:DAYLIGHT
BEGIN:STANDARD
TZOFFSETFROM:+0100
TZOFFSETTO:+0000
TZNAME:GMT
DTSTART:20271031T010000
END:STANDARD
END:VTIMEZONE
BEGIN:VEVENT
DTSTART;TZID=Europe/London:20260321T100000
DTEND;TZID=Europe/London:20260321T160000
DTSTAMP:20260421T171940
CREATED:20251101T171216Z
LAST-MODIFIED:20260303T085611Z
UID:494-1774087200-1774108800@stlukeswalkingclub.org.uk
SUMMARY:Saunderton via Bledlow Circular.
DESCRIPTION:General Area: Saunderton via Bledlow Circular. Miles: 11 Moderate\, undulating with 3 good hills\nMeeting time: 10:00 Meeting place: Saunderton Station\nLeader: Glenn Connolly Leader’s Mobile: 07816847621\nTravel: Take the direct Chiltern Line train from London Marylebone at 08.52  calling at (Wembley Stadium 09.01\, Northolt Park 09.07\, South Ruislip 09.12\, West Ruislip 09.17) arriving at Saunderton  09.51.\nIf driving\, there is a Free Car Park at Saunderton Station. Slough Lane\, HP14 4LJ\nNature of walk: A circular walk through the peaceful Chiltern Hills\, taking in a few good hills and many fine views over the valley and plain. The walk follows the valley bottom before following the ridgeway then passing through a series of secluded valleys before reaching Radnage and then Bledlow Ridge and back along the valley to Saunderton. Please bring a packed lunch\, possible pub stop in Bledlow depending on time
URL:https://stlukeswalkingclub.org.uk/event/to-be-advised-35/
END:VEVENT
END:VCALENDAR