BEGIN:VCALENDAR
VERSION:2.0
PRODID:-//St Luke&#039;s Walking Club - ECPv6.15.20//NONSGML v1.0//EN
CALSCALE:GREGORIAN
METHOD:PUBLISH
X-ORIGINAL-URL:https://stlukeswalkingclub.org.uk
X-WR-CALDESC:Events for St Luke&#039;s Walking Club
REFRESH-INTERVAL;VALUE=DURATION:PT1H
X-Robots-Tag:noindex
X-PUBLISHED-TTL:PT1H
BEGIN:VTIMEZONE
TZID:Europe/London
BEGIN:DAYLIGHT
TZOFFSETFROM:+0000
TZOFFSETTO:+0100
TZNAME:BST
DTSTART:20250330T010000
END:DAYLIGHT
BEGIN:STANDARD
TZOFFSETFROM:+0100
TZOFFSETTO:+0000
TZNAME:GMT
DTSTART:20251026T010000
END:STANDARD
BEGIN:DAYLIGHT
TZOFFSETFROM:+0000
TZOFFSETTO:+0100
TZNAME:BST
DTSTART:20260329T010000
END:DAYLIGHT
BEGIN:STANDARD
TZOFFSETFROM:+0100
TZOFFSETTO:+0000
TZNAME:GMT
DTSTART:20261025T010000
END:STANDARD
BEGIN:DAYLIGHT
TZOFFSETFROM:+0000
TZOFFSETTO:+0100
TZNAME:BST
DTSTART:20270328T010000
END:DAYLIGHT
BEGIN:STANDARD
TZOFFSETFROM:+0100
TZOFFSETTO:+0000
TZNAME:GMT
DTSTART:20271031T010000
END:STANDARD
END:VTIMEZONE
BEGIN:VEVENT
DTSTART;TZID=Europe/London:20260312T100000
DTEND;TZID=Europe/London:20260312T160000
DTSTAMP:20260421T172052
CREATED:20251101T164301Z
LAST-MODIFIED:20251126T164722Z
UID:486-1773309600-1773331200@stlukeswalkingclub.org.uk
SUMMARY:Tring to College Lake Nature Reserve Circular
DESCRIPTION:General Area: Tring to College Lake Nature Reserve Circular Miles: 9 Moderate\nMeeting Time:  10.25       Meeting Place: Tring Station\nLeader:  Sue Aldridge   Mobile: 07713 025494\nTravel:  Depart Harrow & Wealdstone 9.51   Watford Junc. 10.00    Arrive Tring 10.21\nNature of Walk: We follow ‘The Ridgeway’ over Pitstone Hill with good views towards Ivinghoe Beacon. Descend to Pitstone village and College Lake Wildlife Centre at Bulbourne. The nature reserve with lakes are set in former chalk quarries\, supporting more than a thousand different wildlife species. The Eco Visitor Centre has stunning views of these lakes and has a small café\, gift shop and toilets. Bring picnic lunch to have outside with view of lakes and birdlife\, with time for drinks at the café later\, possibly after we have completed the 2 mile ‘Wild Trail’ that follows good\, even paths around the nature reserve\, giving lovely views across the area\, hopefully spotting birds from the hides. On leaving the centre\, we follow an easy route back to Tring Station along the towpath of the Grand Union Canal.
URL:https://stlukeswalkingclub.org.uk/event/to-be-advised-31/
END:VEVENT
END:VCALENDAR