BEGIN:VCALENDAR
VERSION:2.0
PRODID:-//St Luke&#039;s Walking Club - ECPv6.15.20//NONSGML v1.0//EN
CALSCALE:GREGORIAN
METHOD:PUBLISH
X-WR-CALNAME:St Luke&#039;s Walking Club
X-ORIGINAL-URL:https://stlukeswalkingclub.org.uk
X-WR-CALDESC:Events for St Luke&#039;s Walking Club
REFRESH-INTERVAL;VALUE=DURATION:PT1H
X-Robots-Tag:noindex
X-PUBLISHED-TTL:PT1H
BEGIN:VTIMEZONE
TZID:Europe/London
BEGIN:DAYLIGHT
TZOFFSETFROM:+0000
TZOFFSETTO:+0100
TZNAME:BST
DTSTART:20250330T010000
END:DAYLIGHT
BEGIN:STANDARD
TZOFFSETFROM:+0100
TZOFFSETTO:+0000
TZNAME:GMT
DTSTART:20251026T010000
END:STANDARD
BEGIN:DAYLIGHT
TZOFFSETFROM:+0000
TZOFFSETTO:+0100
TZNAME:BST
DTSTART:20260329T010000
END:DAYLIGHT
BEGIN:STANDARD
TZOFFSETFROM:+0100
TZOFFSETTO:+0000
TZNAME:GMT
DTSTART:20261025T010000
END:STANDARD
BEGIN:DAYLIGHT
TZOFFSETFROM:+0000
TZOFFSETTO:+0100
TZNAME:BST
DTSTART:20270328T010000
END:DAYLIGHT
BEGIN:STANDARD
TZOFFSETFROM:+0100
TZOFFSETTO:+0000
TZNAME:GMT
DTSTART:20271031T010000
END:STANDARD
END:VTIMEZONE
BEGIN:VEVENT
DTSTART;TZID=Europe/London:20260303T103000
DTEND;TZID=Europe/London:20260303T150000
DTSTAMP:20260421T171755
CREATED:20251101T163557Z
LAST-MODIFIED:20260203T141228Z
UID:482-1772533800-1772550000@stlukeswalkingclub.org.uk
SUMMARY:Richmond and the Park
DESCRIPTION:General area: Richmond and the Park Miles: 7+1/2 miles easy (with the odd hill)\nMeeting time: 10.30am Meeting Place: entrance hall of Richmond station\nLeader : Deborah Tyler mobile phone 07961382524\nTravel: from Harrow-on-the Hill easiest route is Met line to Finchley Road then change to Mildmay Line ( terminates at Richmond) either\nfrom Finchley Road and Frognal (7 minute walk up Finchley Road)\nOr one stop on Jubilee Line to West Hampstead and cross the road to the Overground station\nTrains from West Hampstead at 9.39\, 9.49\,10.04 ……\n(Also Mainline trains from Waterloo or Vauxhall stations)\nNature of the Walk: to and from Richmond station\, starting along the river then a circular walk in Richmond Park from Petersham Gate\, exiting at Richmond Gate and back through Richmond town.\nTearoom in Pembroke Lodge in Richmond Park ( Butlers Pantry) is open until 3.30pm\nHollyhock cafe and terrace garden on way back to station open all day
URL:https://stlukeswalkingclub.org.uk/event/to-be-advised-29/
END:VEVENT
END:VCALENDAR