BEGIN:VCALENDAR
VERSION:2.0
PRODID:-//St Luke&#039;s Walking Club - ECPv6.15.20//NONSGML v1.0//EN
CALSCALE:GREGORIAN
METHOD:PUBLISH
X-WR-CALNAME:St Luke&#039;s Walking Club
X-ORIGINAL-URL:https://stlukeswalkingclub.org.uk
X-WR-CALDESC:Events for St Luke&#039;s Walking Club
REFRESH-INTERVAL;VALUE=DURATION:PT1H
X-Robots-Tag:noindex
X-PUBLISHED-TTL:PT1H
BEGIN:VTIMEZONE
TZID:Europe/London
BEGIN:DAYLIGHT
TZOFFSETFROM:+0000
TZOFFSETTO:+0100
TZNAME:BST
DTSTART:20250330T010000
END:DAYLIGHT
BEGIN:STANDARD
TZOFFSETFROM:+0100
TZOFFSETTO:+0000
TZNAME:GMT
DTSTART:20251026T010000
END:STANDARD
BEGIN:DAYLIGHT
TZOFFSETFROM:+0000
TZOFFSETTO:+0100
TZNAME:BST
DTSTART:20260329T010000
END:DAYLIGHT
BEGIN:STANDARD
TZOFFSETFROM:+0100
TZOFFSETTO:+0000
TZNAME:GMT
DTSTART:20261025T010000
END:STANDARD
BEGIN:DAYLIGHT
TZOFFSETFROM:+0000
TZOFFSETTO:+0100
TZNAME:BST
DTSTART:20270328T010000
END:DAYLIGHT
BEGIN:STANDARD
TZOFFSETFROM:+0100
TZOFFSETTO:+0000
TZNAME:GMT
DTSTART:20271031T010000
END:STANDARD
END:VTIMEZONE
BEGIN:VEVENT
DTSTART;TZID=Europe/London:20260228T100000
DTEND;TZID=Europe/London:20260228T160000
DTSTAMP:20260421T171647
CREATED:20251101T163519Z
LAST-MODIFIED:20260119T140622Z
UID:480-1772272800-1772294400@stlukeswalkingclub.org.uk
SUMMARY:Princes Risborough circular
DESCRIPTION:General Area: Countryside to the South and East sides of Princes Risborough Miles: 8 moderate\nMeeting time: 10.00 Meeting place: Princes Risborough station\nLeader: Janet Clow Leader’s mobile: 07982 208846\nTravel: Chiltern Line train departing 08.52 from Marylebone calls at Wembley Stadium 09.01\,\nNortholt Park 09.07\, South Ruislip 09.12\, West Ruislip 09.19 and arrives at Princes Risborough 09.57.\nCar parking available in station car park or free in nearby side roads on Saturdays.\nNature of walk: A lovely walk taking in the scenery round Princes Risborough\, using field and\nwoodland tracks and paths and a little road walking on quiet lanes. The route includes Horsenden\,\nSaunderton\, Loosley Row\, the (closed down) Pink and Lily pub and the summit of Whiteleaf Hill. Not\ntoo taxing\, but be prepared for a steep descent via steps from Whiteleaf Hill (think Hampden\nClimber in reverse). No facilities on the route\, so please bring lunch.\nEveryone is welcome to call in for tea and cake at Janet and Martin’s as we re-enter Princes\nRisborough\, or continue on a direct route to the station if you are in a hurry.
URL:https://stlukeswalkingclub.org.uk/event/to-be-advised-28/
END:VEVENT
END:VCALENDAR