BEGIN:VCALENDAR
VERSION:2.0
PRODID:-//St Luke&#039;s Walking Club - ECPv6.15.20//NONSGML v1.0//EN
CALSCALE:GREGORIAN
METHOD:PUBLISH
X-WR-CALNAME:St Luke&#039;s Walking Club
X-ORIGINAL-URL:https://stlukeswalkingclub.org.uk
X-WR-CALDESC:Events for St Luke&#039;s Walking Club
REFRESH-INTERVAL;VALUE=DURATION:PT1H
X-Robots-Tag:noindex
X-PUBLISHED-TTL:PT1H
BEGIN:VTIMEZONE
TZID:Europe/London
BEGIN:DAYLIGHT
TZOFFSETFROM:+0000
TZOFFSETTO:+0100
TZNAME:BST
DTSTART:20250330T010000
END:DAYLIGHT
BEGIN:STANDARD
TZOFFSETFROM:+0100
TZOFFSETTO:+0000
TZNAME:GMT
DTSTART:20251026T010000
END:STANDARD
BEGIN:DAYLIGHT
TZOFFSETFROM:+0000
TZOFFSETTO:+0100
TZNAME:BST
DTSTART:20260329T010000
END:DAYLIGHT
BEGIN:STANDARD
TZOFFSETFROM:+0100
TZOFFSETTO:+0000
TZNAME:GMT
DTSTART:20261025T010000
END:STANDARD
BEGIN:DAYLIGHT
TZOFFSETFROM:+0000
TZOFFSETTO:+0100
TZNAME:BST
DTSTART:20270328T010000
END:DAYLIGHT
BEGIN:STANDARD
TZOFFSETFROM:+0100
TZOFFSETTO:+0000
TZNAME:GMT
DTSTART:20271031T010000
END:STANDARD
END:VTIMEZONE
BEGIN:VEVENT
DTSTART;TZID=Europe/London:20260216T103000
DTEND;TZID=Europe/London:20260216T150000
DTSTAMP:20260421T185647
CREATED:20251101T163327Z
LAST-MODIFIED:20260110T162850Z
UID:474-1771237800-1771254000@stlukeswalkingclub.org.uk
SUMMARY:Watford Met Line Station to Chalfont and Latimer Station
DESCRIPTION:General area: Watford Met Line Station to Chalfont and Latimer Station Miles: 8.25 miles\, moderate\nMeeting time: 10:30 Meeting Place: Watford Station\nLeader: Michael Romain Mobile: 07818 000849\nTravel: from Harrow on the Hill Station take the Metropolitan line (9:58 arriving 10:25) to Watford.\nNature of walk: I have led this walk many times. The route goes through Cassiobury Park and onto the  Chilterns. Lunch is either in the churchyard or in the pub at Saratt. It is a lovely country walk. We return from Chalfont and Latimer back on the Metropolitan line.
URL:https://stlukeswalkingclub.org.uk/event/to-be-advised-25/
END:VEVENT
END:VCALENDAR