BEGIN:VCALENDAR
VERSION:2.0
PRODID:-//St Luke&#039;s Walking Club - ECPv6.15.20//NONSGML v1.0//EN
CALSCALE:GREGORIAN
METHOD:PUBLISH
X-WR-CALNAME:St Luke&#039;s Walking Club
X-ORIGINAL-URL:https://stlukeswalkingclub.org.uk
X-WR-CALDESC:Events for St Luke&#039;s Walking Club
REFRESH-INTERVAL;VALUE=DURATION:PT1H
X-Robots-Tag:noindex
X-PUBLISHED-TTL:PT1H
BEGIN:VTIMEZONE
TZID:Europe/London
BEGIN:DAYLIGHT
TZOFFSETFROM:+0000
TZOFFSETTO:+0100
TZNAME:BST
DTSTART:20250330T010000
END:DAYLIGHT
BEGIN:STANDARD
TZOFFSETFROM:+0100
TZOFFSETTO:+0000
TZNAME:GMT
DTSTART:20251026T010000
END:STANDARD
BEGIN:DAYLIGHT
TZOFFSETFROM:+0000
TZOFFSETTO:+0100
TZNAME:BST
DTSTART:20260329T010000
END:DAYLIGHT
BEGIN:STANDARD
TZOFFSETFROM:+0100
TZOFFSETTO:+0000
TZNAME:GMT
DTSTART:20261025T010000
END:STANDARD
BEGIN:DAYLIGHT
TZOFFSETFROM:+0000
TZOFFSETTO:+0100
TZNAME:BST
DTSTART:20270328T010000
END:DAYLIGHT
BEGIN:STANDARD
TZOFFSETFROM:+0100
TZOFFSETTO:+0000
TZNAME:GMT
DTSTART:20271031T010000
END:STANDARD
END:VTIMEZONE
BEGIN:VEVENT
DTSTART;TZID=Europe/London:20260214T100000
DTEND;TZID=Europe/London:20260214T160000
DTSTAMP:20260421T185802
CREATED:20251101T163258Z
LAST-MODIFIED:20260115T105220Z
UID:472-1771063200-1771084800@stlukeswalkingclub.org.uk
SUMMARY:Tring Circular to Ashridge
DESCRIPTION:General Area:  Tring Station\, Wiggington\, Aldbury\, Ashridge\, The Ridgeway\nMiles 10.5 Grade: Moderate – undulating\, one longish climb to Ashridge visitors centre\nMeeting Time: 10.05 Meeting Place: Tring Station\nLeader: John Harper Mobile: 07947 894930\nTravel: Take 9:36 from Harrow & Wealdstone station\, arriving at Tring station at 10:02\nNature of Walk: We follow the Ridgeway to Wiggington (approx 2.5 miles) where we will have a coffee and loo stop (no loos at Tring station) at the community cafe/shop. Please buy a drink if you want to use the loo. We follow the Chiltern way\, crossing the Grand Union canal at Cow Roast and heading for the pretty village of Aldbury (used in Midsommer Murders and an episode of the Avengers). From there we ascend to the Ashridge Visitors centre (approx 6.5 miles) for lunch stop. Public loos and cafe available. We then head for Clipper Down\, before rejoining the Ridgeway and returning to Tring Station.
URL:https://stlukeswalkingclub.org.uk/event/to-be-advised-24/
END:VEVENT
END:VCALENDAR