BEGIN:VCALENDAR
VERSION:2.0
PRODID:-//St Luke&#039;s Walking Club - ECPv6.15.20//NONSGML v1.0//EN
CALSCALE:GREGORIAN
METHOD:PUBLISH
X-WR-CALNAME:St Luke&#039;s Walking Club
X-ORIGINAL-URL:https://stlukeswalkingclub.org.uk
X-WR-CALDESC:Events for St Luke&#039;s Walking Club
REFRESH-INTERVAL;VALUE=DURATION:PT1H
X-Robots-Tag:noindex
X-PUBLISHED-TTL:PT1H
BEGIN:VTIMEZONE
TZID:Europe/London
BEGIN:DAYLIGHT
TZOFFSETFROM:+0000
TZOFFSETTO:+0100
TZNAME:BST
DTSTART:20250330T010000
END:DAYLIGHT
BEGIN:STANDARD
TZOFFSETFROM:+0100
TZOFFSETTO:+0000
TZNAME:GMT
DTSTART:20251026T010000
END:STANDARD
BEGIN:DAYLIGHT
TZOFFSETFROM:+0000
TZOFFSETTO:+0100
TZNAME:BST
DTSTART:20260329T010000
END:DAYLIGHT
BEGIN:STANDARD
TZOFFSETFROM:+0100
TZOFFSETTO:+0000
TZNAME:GMT
DTSTART:20261025T010000
END:STANDARD
BEGIN:DAYLIGHT
TZOFFSETFROM:+0000
TZOFFSETTO:+0100
TZNAME:BST
DTSTART:20270328T010000
END:DAYLIGHT
BEGIN:STANDARD
TZOFFSETFROM:+0100
TZOFFSETTO:+0000
TZNAME:GMT
DTSTART:20271031T010000
END:STANDARD
END:VTIMEZONE
BEGIN:VEVENT
DTSTART;TZID=Europe/London:20260208T102000
DTEND;TZID=Europe/London:20260208T160000
DTSTAMP:20260421T185642
CREATED:20251101T163136Z
LAST-MODIFIED:20260129T091924Z
UID:468-1770546000-1770566400@stlukeswalkingclub.org.uk
SUMMARY:Chess Valley
DESCRIPTION:General Area: Chesham to Rickmansworth. Miles: 10 moderate\nMeeting time: 10:20 Meeting place: Chesham Station\nLeader: Tony Prothero Leader’s phone: 07715 948235.\nTravel: from Harrow on the Hill Station take the northbound Met Line train to Chesham at 09.40\narriving at 10.17.\nNature of walk: the walk follows the route of the River Chess between Chesham and\nRickmansworth. Bring your own provisions as there are no pubs without making a detour. \n 
URL:https://stlukeswalkingclub.org.uk/event/to-be-advised-22/
END:VEVENT
END:VCALENDAR