BEGIN:VCALENDAR
VERSION:2.0
PRODID:-//St Luke&#039;s Walking Club - ECPv6.15.20//NONSGML v1.0//EN
CALSCALE:GREGORIAN
METHOD:PUBLISH
X-ORIGINAL-URL:https://stlukeswalkingclub.org.uk
X-WR-CALDESC:Events for St Luke&#039;s Walking Club
REFRESH-INTERVAL;VALUE=DURATION:PT1H
X-Robots-Tag:noindex
X-PUBLISHED-TTL:PT1H
BEGIN:VTIMEZONE
TZID:Europe/London
BEGIN:DAYLIGHT
TZOFFSETFROM:+0000
TZOFFSETTO:+0100
TZNAME:BST
DTSTART:20250330T010000
END:DAYLIGHT
BEGIN:STANDARD
TZOFFSETFROM:+0100
TZOFFSETTO:+0000
TZNAME:GMT
DTSTART:20251026T010000
END:STANDARD
BEGIN:DAYLIGHT
TZOFFSETFROM:+0000
TZOFFSETTO:+0100
TZNAME:BST
DTSTART:20260329T010000
END:DAYLIGHT
BEGIN:STANDARD
TZOFFSETFROM:+0100
TZOFFSETTO:+0000
TZNAME:GMT
DTSTART:20261025T010000
END:STANDARD
BEGIN:DAYLIGHT
TZOFFSETFROM:+0000
TZOFFSETTO:+0100
TZNAME:BST
DTSTART:20270328T010000
END:DAYLIGHT
BEGIN:STANDARD
TZOFFSETFROM:+0100
TZOFFSETTO:+0000
TZNAME:GMT
DTSTART:20271031T010000
END:STANDARD
END:VTIMEZONE
BEGIN:VEVENT
DTSTART;TZID=Europe/London:20260206T103000
DTEND;TZID=Europe/London:20260206T140000
DTSTAMP:20260421T185811
CREATED:20251101T163057Z
LAST-MODIFIED:20260109T114650Z
UID:466-1770373800-1770386400@stlukeswalkingclub.org.uk
SUMMARY:Great Missenden Circular
DESCRIPTION:General Area: Great Missenden. Miles:  4.5 easy.\nMeeting time: 10:30 . Meeting place: Outside the main entrance to Great Missenden station..\nLeader: Sara Reeves Leader’s phone: 07706518191\nTravel: from Harrow on the Hill Station take the northbound Chiltern Line train to Aylesbury\,  at 09.39\, arriving at Great Missenden at 10.13. No concessions: please buy a day return to Great Missenden. Oyster 60+ & Freedom pass users: please buy a return extension ticket to/from Great Missenden.\nNature of walk:  a lovely stroll through the Chilterns\, enjoying beechwoods\, gentle hills\, field paths\, views\, a country pub (possible coffee stop) and an ancient church at Great Missenden. We will walk to the church\, where after 4 miles we will enjoy a picnic lunch and then return to Great Missenden for an optional pub/cafe stop.
URL:https://stlukeswalkingclub.org.uk/event/to-be-advised-21/
END:VEVENT
END:VCALENDAR