BEGIN:VCALENDAR
VERSION:2.0
PRODID:-//St Luke&#039;s Walking Club - ECPv6.15.20//NONSGML v1.0//EN
CALSCALE:GREGORIAN
METHOD:PUBLISH
X-WR-CALNAME:St Luke&#039;s Walking Club
X-ORIGINAL-URL:https://stlukeswalkingclub.org.uk
X-WR-CALDESC:Events for St Luke&#039;s Walking Club
REFRESH-INTERVAL;VALUE=DURATION:PT1H
X-Robots-Tag:noindex
X-PUBLISHED-TTL:PT1H
BEGIN:VTIMEZONE
TZID:Europe/London
BEGIN:DAYLIGHT
TZOFFSETFROM:+0000
TZOFFSETTO:+0100
TZNAME:BST
DTSTART:20240331T010000
END:DAYLIGHT
BEGIN:STANDARD
TZOFFSETFROM:+0100
TZOFFSETTO:+0000
TZNAME:GMT
DTSTART:20241027T010000
END:STANDARD
BEGIN:DAYLIGHT
TZOFFSETFROM:+0000
TZOFFSETTO:+0100
TZNAME:BST
DTSTART:20250330T010000
END:DAYLIGHT
BEGIN:STANDARD
TZOFFSETFROM:+0100
TZOFFSETTO:+0000
TZNAME:GMT
DTSTART:20251026T010000
END:STANDARD
BEGIN:DAYLIGHT
TZOFFSETFROM:+0000
TZOFFSETTO:+0100
TZNAME:BST
DTSTART:20260329T010000
END:DAYLIGHT
BEGIN:STANDARD
TZOFFSETFROM:+0100
TZOFFSETTO:+0000
TZNAME:GMT
DTSTART:20261025T010000
END:STANDARD
END:VTIMEZONE
BEGIN:VEVENT
DTSTART;TZID=Europe/London:20251031T103000
DTEND;TZID=Europe/London:20251031T153000
DTSTAMP:20260421T233107
CREATED:20250823T100943Z
LAST-MODIFIED:20251003T154546Z
UID:367-1761906600-1761924600@stlukeswalkingclub.org.uk
SUMMARY:Wendover to Wendover Woods Circular for Autumn colours
DESCRIPTION:General Area:  Wendover to Wendover Woods Circular     Miles: 9  Moderate      Ascent Approx  900ft.\nMeeting Time : 10.20  Meeting Place : Wendover Station\nLeader:  Sue Aldridge    Mobile: 07713 025494 on day\nTravel: Chiltern Trains  depart Harrow on the Hill 9.39  Arrive Wendover Station 10.16\nNature of Walk:  A varied walk seeing lovely autumnal colours in the Wendover Beechwoods. Starting along ‘The Ridgeway’ we have two steady\, long ascents in the morning with a dip into a quiet side valley in between. Near the highest point we skirt passed an Iron age Hillfort\, then reach the highest point in The Chilterns with some beautiful views across Aylesbury Vale. After descending we pass through a peaceful remembrance churchyard with many RAF memorial graves (WW2) and conclude along the tranquil Wendover Arm of the GU Canal. Tracks/paths are mostly well defined of a good standard\, but there is one rather steep\, narrow uneven descent where poles will be useful if you use them. May be a bit muddy in places after wet weather. Bring a picnic lunch but there’ll be time to use the summit café for drinks/toilets at lunchtime.\nNote: Change of date due to engineering works on Chiltern Lines.
URL:https://stlukeswalkingclub.org.uk/event/to-be-advised-14/
END:VEVENT
END:VCALENDAR