BEGIN:VCALENDAR
VERSION:2.0
PRODID:-//St Luke&#039;s Walking Club - ECPv6.15.20//NONSGML v1.0//EN
CALSCALE:GREGORIAN
METHOD:PUBLISH
X-ORIGINAL-URL:https://stlukeswalkingclub.org.uk
X-WR-CALDESC:Events for St Luke&#039;s Walking Club
REFRESH-INTERVAL;VALUE=DURATION:PT1H
X-Robots-Tag:noindex
X-PUBLISHED-TTL:PT1H
BEGIN:VTIMEZONE
TZID:Europe/London
BEGIN:DAYLIGHT
TZOFFSETFROM:+0000
TZOFFSETTO:+0100
TZNAME:BST
DTSTART:20240331T010000
END:DAYLIGHT
BEGIN:STANDARD
TZOFFSETFROM:+0100
TZOFFSETTO:+0000
TZNAME:GMT
DTSTART:20241027T010000
END:STANDARD
BEGIN:DAYLIGHT
TZOFFSETFROM:+0000
TZOFFSETTO:+0100
TZNAME:BST
DTSTART:20250330T010000
END:DAYLIGHT
BEGIN:STANDARD
TZOFFSETFROM:+0100
TZOFFSETTO:+0000
TZNAME:GMT
DTSTART:20251026T010000
END:STANDARD
BEGIN:DAYLIGHT
TZOFFSETFROM:+0000
TZOFFSETTO:+0100
TZNAME:BST
DTSTART:20260329T010000
END:DAYLIGHT
BEGIN:STANDARD
TZOFFSETFROM:+0100
TZOFFSETTO:+0000
TZNAME:GMT
DTSTART:20261025T010000
END:STANDARD
END:VTIMEZONE
BEGIN:VEVENT
DTSTART;TZID=Europe/London:20251026T103000
DTEND;TZID=Europe/London:20251026T143000
DTSTAMP:20260422T010901
CREATED:20250823T100914Z
LAST-MODIFIED:20251014T061029Z
UID:365-1761474600-1761489000@stlukeswalkingclub.org.uk
SUMMARY:Hampstead Heath Circular
DESCRIPTION:General Area: London – Hampstead Heath and Highgate Miles: 6.5 miles of easy walking on surfaced paths with some hills\nMeeting Time: 10.30 a.m. Meeting Place:Hampstead Station (Underground – Northern Line)\nLeaders: Kay Waddilove & Margaret Huitson Leaders’ Mobiles: Kay 07518 365746; Margaret 07762 310509\nTravel: Hampstead Station is on the Northern tube line. It is served by bus services 268\, 46\, 603\, 113\, 13. It is a 20-minute walk from Finchley Road (Metropolitan line) and Finchley Road & Frognal (Overground – Mildmay line) stations.\nNature of Walk: This circular walk explores one of London’s best known open spaces. It ascends to the splendid viewpoint of Parliament Hill\, then skirts the edges of Hampstead Heath via Hampstead and Highgate Ponds (including dog ponds – canines welcome on the walk!). We pass the famous Highgate cemetery\, then ascend to Kenwood House\, where we will stop for lunch-with-a-view. Please bring a picnic for our lunch stop at Kenwood\, where there are public toilets and a café for tea/coffee/soft drinks. We continue via a sculpture park\, Jack Straw’s (ex) Castle\, and the picturesque streets of Hampstead Grove\, Holly Bush Hill and Heath Street before returning to the station.
URL:https://stlukeswalkingclub.org.uk/event/to-be-advised-13/
END:VEVENT
END:VCALENDAR