BEGIN:VCALENDAR
VERSION:2.0
PRODID:-//St Luke&#039;s Walking Club - ECPv6.15.20//NONSGML v1.0//EN
CALSCALE:GREGORIAN
METHOD:PUBLISH
X-WR-CALNAME:St Luke&#039;s Walking Club
X-ORIGINAL-URL:https://stlukeswalkingclub.org.uk
X-WR-CALDESC:Events for St Luke&#039;s Walking Club
REFRESH-INTERVAL;VALUE=DURATION:PT1H
X-Robots-Tag:noindex
X-PUBLISHED-TTL:PT1H
BEGIN:VTIMEZONE
TZID:Europe/London
BEGIN:DAYLIGHT
TZOFFSETFROM:+0000
TZOFFSETTO:+0100
TZNAME:BST
DTSTART:20240331T010000
END:DAYLIGHT
BEGIN:STANDARD
TZOFFSETFROM:+0100
TZOFFSETTO:+0000
TZNAME:GMT
DTSTART:20241027T010000
END:STANDARD
BEGIN:DAYLIGHT
TZOFFSETFROM:+0000
TZOFFSETTO:+0100
TZNAME:BST
DTSTART:20250330T010000
END:DAYLIGHT
BEGIN:STANDARD
TZOFFSETFROM:+0100
TZOFFSETTO:+0000
TZNAME:GMT
DTSTART:20251026T010000
END:STANDARD
BEGIN:DAYLIGHT
TZOFFSETFROM:+0000
TZOFFSETTO:+0100
TZNAME:BST
DTSTART:20260329T010000
END:DAYLIGHT
BEGIN:STANDARD
TZOFFSETFROM:+0100
TZOFFSETTO:+0000
TZNAME:GMT
DTSTART:20261025T010000
END:STANDARD
END:VTIMEZONE
BEGIN:VEVENT
DTSTART;TZID=Europe/London:20251016T100000
DTEND;TZID=Europe/London:20251016T160000
DTSTAMP:20260422T010542
CREATED:20250823T100837Z
LAST-MODIFIED:20250928T121044Z
UID:363-1760608800-1760630400@stlukeswalkingclub.org.uk
SUMMARY:Chalfont & Latimer\, Chess Valley and Ley Hill
DESCRIPTION:General area: Chalfont & Latimer\, Chess Valley and Ley Hill . Miles: 11 moderate\nMeeting time: 10.00 am. Meeting place: Chalfont & Latimer station\nLeader: John Harper Mobile: 07947 894930\nTravel: Take the 9.25am Met train from Harrow on the Hill to Chalfont & Latimer\, arriving at 9.50am. Alternatively\, take the 9:39 Chiltern Railways service arriving at 9:58\nNature of the walk: We descend through the woods and climb again to Latimer House. We then follow the Chess Valley route to the outskirts of Chesham where we climb to Botley and on to Ley Hill for lunch stop. After lunch\, its on to Flaunden and Latimer before returning through the woods to the station.\nBring a packed lunch which we can eat on the benches on Ley Hill Common\, and there is the opportunity to buy drinks at the Crown pub in Ley Hill
URL:https://stlukeswalkingclub.org.uk/event/to-be-advised-12/
END:VEVENT
END:VCALENDAR