BEGIN:VCALENDAR
VERSION:2.0
PRODID:-//St Luke&#039;s Walking Club - ECPv6.15.20//NONSGML v1.0//EN
CALSCALE:GREGORIAN
METHOD:PUBLISH
X-WR-CALNAME:St Luke&#039;s Walking Club
X-ORIGINAL-URL:https://stlukeswalkingclub.org.uk
X-WR-CALDESC:Events for St Luke&#039;s Walking Club
REFRESH-INTERVAL;VALUE=DURATION:PT1H
X-Robots-Tag:noindex
X-PUBLISHED-TTL:PT1H
BEGIN:VTIMEZONE
TZID:Europe/London
BEGIN:DAYLIGHT
TZOFFSETFROM:+0000
TZOFFSETTO:+0100
TZNAME:BST
DTSTART:20240331T010000
END:DAYLIGHT
BEGIN:STANDARD
TZOFFSETFROM:+0100
TZOFFSETTO:+0000
TZNAME:GMT
DTSTART:20241027T010000
END:STANDARD
BEGIN:DAYLIGHT
TZOFFSETFROM:+0000
TZOFFSETTO:+0100
TZNAME:BST
DTSTART:20250330T010000
END:DAYLIGHT
BEGIN:STANDARD
TZOFFSETFROM:+0100
TZOFFSETTO:+0000
TZNAME:GMT
DTSTART:20251026T010000
END:STANDARD
BEGIN:DAYLIGHT
TZOFFSETFROM:+0000
TZOFFSETTO:+0100
TZNAME:BST
DTSTART:20260329T010000
END:DAYLIGHT
BEGIN:STANDARD
TZOFFSETFROM:+0100
TZOFFSETTO:+0000
TZNAME:GMT
DTSTART:20261025T010000
END:STANDARD
END:VTIMEZONE
BEGIN:VEVENT
DTSTART;TZID=Europe/London:20251011T100000
DTEND;TZID=Europe/London:20251011T170000
DTSTAMP:20260422T010706
CREATED:20250823T100759Z
LAST-MODIFIED:20250929T161750Z
UID:361-1760176800-1760202000@stlukeswalkingclub.org.uk
SUMMARY:Beaconsfield Circular
DESCRIPTION:General Area: Beaconsfield Miles: 10 easy\nMeeting time: 10.45 Meeting place: Beaconsfield station (Southbound side)\nLeader: Janet Clow Leader’s mobile: 07982 208846\nTravel: Chiltern Line train departing 09.52 from Marylebone calls at Wembley Stadium 10.01\,\nNortholt Park 10.07\, South Ruislip 10.12\, West Ruislip 10.19 and arrives at Beaconsfield 10.37. Car\nparking available in station car park or free in nearby side roads.\nNature of walk: A circular walk mainly through woodland to the northwest of Beaconsfield. Please\nbring lunch. There will be an opportunity to buy a lunch time drink at Penn Street.
URL:https://stlukeswalkingclub.org.uk/event/to-be-advised-11/
END:VEVENT
END:VCALENDAR