BEGIN:VCALENDAR
VERSION:2.0
PRODID:-//St Luke&#039;s Walking Club - ECPv6.15.20//NONSGML v1.0//EN
CALSCALE:GREGORIAN
METHOD:PUBLISH
X-ORIGINAL-URL:https://stlukeswalkingclub.org.uk
X-WR-CALDESC:Events for St Luke&#039;s Walking Club
REFRESH-INTERVAL;VALUE=DURATION:PT1H
X-Robots-Tag:noindex
X-PUBLISHED-TTL:PT1H
BEGIN:VTIMEZONE
TZID:Europe/London
BEGIN:DAYLIGHT
TZOFFSETFROM:+0000
TZOFFSETTO:+0100
TZNAME:BST
DTSTART:20240331T010000
END:DAYLIGHT
BEGIN:STANDARD
TZOFFSETFROM:+0100
TZOFFSETTO:+0000
TZNAME:GMT
DTSTART:20241027T010000
END:STANDARD
BEGIN:DAYLIGHT
TZOFFSETFROM:+0000
TZOFFSETTO:+0100
TZNAME:BST
DTSTART:20250330T010000
END:DAYLIGHT
BEGIN:STANDARD
TZOFFSETFROM:+0100
TZOFFSETTO:+0000
TZNAME:GMT
DTSTART:20251026T010000
END:STANDARD
BEGIN:DAYLIGHT
TZOFFSETFROM:+0000
TZOFFSETTO:+0100
TZNAME:BST
DTSTART:20260329T010000
END:DAYLIGHT
BEGIN:STANDARD
TZOFFSETFROM:+0100
TZOFFSETTO:+0000
TZNAME:GMT
DTSTART:20261025T010000
END:STANDARD
END:VTIMEZONE
BEGIN:VEVENT
DTSTART;TZID=Europe/London:20251001T100000
DTEND;TZID=Europe/London:20251001T153000
DTSTAMP:20260422T010737
CREATED:20250823T100708Z
LAST-MODIFIED:20250913T075906Z
UID:359-1759312800-1759332600@stlukeswalkingclub.org.uk
SUMMARY:4 villages circular walk from Amersham.
DESCRIPTION:General area: 4 villages circular walk from Amersham. Miles: 9 moderate\nMeeting time: 10.00 am. Meeting place: Amersham station\nLeader: Chris Hughes Mobile: 07821 806661\nTravel: Take the 9.25am Met train from Harrow on the Hill to Amersham\, arriving at 9.57am. If you are driving you can park in Amersham Old Town car park\, where we’ll meet you at about 10.15am\, after walking from the station.\nNature of the walk: This walk starts at Amersham station and takes in the four villages of Coleshill\, Winchmore Hill\, Penn Street and Little Missenden. A walk through delightful villages\, woods and farmland.\nBring a packed lunch\, but there is the opportunity to buy drinks at the Red Lion pub in Little Missenden where we’ll have lunch.
URL:https://stlukeswalkingclub.org.uk/event/to-be-advised-10/
END:VEVENT
END:VCALENDAR