BEGIN:VCALENDAR
VERSION:2.0
PRODID:-//St Luke&#039;s Walking Club - ECPv6.15.20//NONSGML v1.0//EN
CALSCALE:GREGORIAN
METHOD:PUBLISH
X-WR-CALNAME:St Luke&#039;s Walking Club
X-ORIGINAL-URL:https://stlukeswalkingclub.org.uk
X-WR-CALDESC:Events for St Luke&#039;s Walking Club
REFRESH-INTERVAL;VALUE=DURATION:PT1H
X-Robots-Tag:noindex
X-PUBLISHED-TTL:PT1H
BEGIN:VTIMEZONE
TZID:Europe/London
BEGIN:DAYLIGHT
TZOFFSETFROM:+0000
TZOFFSETTO:+0100
TZNAME:BST
DTSTART:20240331T010000
END:DAYLIGHT
BEGIN:STANDARD
TZOFFSETFROM:+0100
TZOFFSETTO:+0000
TZNAME:GMT
DTSTART:20241027T010000
END:STANDARD
BEGIN:DAYLIGHT
TZOFFSETFROM:+0000
TZOFFSETTO:+0100
TZNAME:BST
DTSTART:20250330T010000
END:DAYLIGHT
BEGIN:STANDARD
TZOFFSETFROM:+0100
TZOFFSETTO:+0000
TZNAME:GMT
DTSTART:20251026T010000
END:STANDARD
BEGIN:DAYLIGHT
TZOFFSETFROM:+0000
TZOFFSETTO:+0100
TZNAME:BST
DTSTART:20260329T010000
END:DAYLIGHT
BEGIN:STANDARD
TZOFFSETFROM:+0100
TZOFFSETTO:+0000
TZNAME:GMT
DTSTART:20261025T010000
END:STANDARD
END:VTIMEZONE
BEGIN:VEVENT
DTSTART;TZID=Europe/London:20250927T103000
DTEND;TZID=Europe/London:20250927T153000
DTSTAMP:20260422T024949
CREATED:20250823T100640Z
LAST-MODIFIED:20250920T131230Z
UID:357-1758969000-1758987000@stlukeswalkingclub.org.uk
SUMMARY:Chesham to Chorleywood
DESCRIPTION:General Area: Chesham to Chorleywood Miles: 8.5 miles moderate\nMeeting Time: 10:30 Meeting place: Chesham Station\nLeader: Peter Polkinghorne Leader’s phone:  07793378483\nTravel: from Harrow on the Hill Station take 9:40 to Chesham arriving at 10:17.\nNature of walk: This walk goes from Chesham to Chorleywood via Flaunden\, where there will a lunch stop in the churchyard with the Green Dragon nearby\, then via Chenies. For full details see: https://www.chesham.gov.uk/wp-content/uploads/sites/116/2024/03/8-Chorleywood-23.pdf \nNote: Now on Saturday and not Sunday.
URL:https://stlukeswalkingclub.org.uk/event/to-be-advised-9/
END:VEVENT
END:VCALENDAR