BEGIN:VCALENDAR
VERSION:2.0
PRODID:-//St Luke&#039;s Walking Club - ECPv6.15.20//NONSGML v1.0//EN
CALSCALE:GREGORIAN
METHOD:PUBLISH
X-WR-CALNAME:St Luke&#039;s Walking Club
X-ORIGINAL-URL:https://stlukeswalkingclub.org.uk
X-WR-CALDESC:Events for St Luke&#039;s Walking Club
REFRESH-INTERVAL;VALUE=DURATION:PT1H
X-Robots-Tag:noindex
X-PUBLISHED-TTL:PT1H
BEGIN:VTIMEZONE
TZID:Europe/London
BEGIN:DAYLIGHT
TZOFFSETFROM:+0000
TZOFFSETTO:+0100
TZNAME:BST
DTSTART:20240331T010000
END:DAYLIGHT
BEGIN:STANDARD
TZOFFSETFROM:+0100
TZOFFSETTO:+0000
TZNAME:GMT
DTSTART:20241027T010000
END:STANDARD
BEGIN:DAYLIGHT
TZOFFSETFROM:+0000
TZOFFSETTO:+0100
TZNAME:BST
DTSTART:20250330T010000
END:DAYLIGHT
BEGIN:STANDARD
TZOFFSETFROM:+0100
TZOFFSETTO:+0000
TZNAME:GMT
DTSTART:20251026T010000
END:STANDARD
BEGIN:DAYLIGHT
TZOFFSETFROM:+0000
TZOFFSETTO:+0100
TZNAME:BST
DTSTART:20260329T010000
END:DAYLIGHT
BEGIN:STANDARD
TZOFFSETFROM:+0100
TZOFFSETTO:+0000
TZNAME:GMT
DTSTART:20261025T010000
END:STANDARD
END:VTIMEZONE
BEGIN:VEVENT
DTSTART;TZID=Europe/London:20250828T100000
DTEND;TZID=Europe/London:20250828T170000
DTSTAMP:20260422T045200
CREATED:20250518T174246Z
LAST-MODIFIED:20250811T090609Z
UID:217-1756375200-1756400400@stlukeswalkingclub.org.uk
SUMMARY:Amersham Circular
DESCRIPTION:General Area:  Amersham and Shardeloes  Miles:  8 miles\, moderate\nMeeting time: 10:10 am at station or approx 10.30 am at Amersham Old Town car park (payable). Meeting place: Amersham Underground Station or Old Town car park. Toilets at station and car park.\nLeader: Sara Reeves Leader’s phone: 07706518191\nTravel: From Harrow-on-Hill\, Met line\, 9:21 to Amersham or Chiltern Line at 9:35 to Amersham.\nNature of walk: This is a circular walk starting with a short stroll through the back streets of Old Amersham. We then walk past Amersham Cricket club\, up the Shardeloes valley and hike through Electric wood. Following field paths\, we will arrive at Little Missenden churchyard for our lunch stop. There will be an opportunity to visit the church (if open) and have a quick drink in The Red Lion pub. The return to Amersham is past Shardeloes house and lake and through the Old Town car park and back up the hill to the station. Please bring a picnic
URL:https://stlukeswalkingclub.org.uk/event/to-be-advised-7/
END:VEVENT
END:VCALENDAR